BEGIN:VCALENDAR
VERSION:2.0
PRODID:-//ChamberMaster//Event Calendar 2.0//EN
METHOD:PUBLISH
X-PUBLISHED-TTL:P3D
REFRESH-INTERVAL:P3D
CALSCALE:GREGORIAN
BEGIN:VEVENT
DTSTART:20180425T230000Z
DTEND:20180426T010000Z
X-MICROSOFT-CDO-ALLDAYEVENT:FALSE
SUMMARY:29th Annual Matilda R. Wilson Boys and Girls Club Steak and Burger Dinner
DESCRIPTION:Since 1990\, the entire Auburn Hills community has joined together each year to support the Matilda R. Wilson Boys & Girls Club by sponsoring tables at the Steak and Burger Dinner. This is a night set aside to show the children of our community how important we believe they are. This dinner allows the Boys & Girls Club to continue providing quality programs in a safe and friendly environment for the members.
X-ALT-DESC;FMTTYPE=text/html:Since 1990\, the entire Auburn Hills community has joined together each year to support the Matilda R. Wilson Boys &amp\; Girls Club by sponsoring tables at the Steak and Burger Dinner. This is a night set aside to show the children of our community how important we believe they are. This dinner allows the Boys &amp\; Girls Club to continue providing quality programs in a safe and friendly environment for the members.
LOCATION:The Auburn Hills Community Center 1827 N. Squirrel Road Auburn Hills\, MI 48326
UID:e.1571.6044
SEQUENCE:3
DTSTAMP:20260422T024753Z
URL:https://business.auburnhillschamber.com/events/details/29th-annual-matilda-r-wilson-boys-and-girls-club-steak-and-burger-dinner-6044
END:VEVENT

END:VCALENDAR
