BEGIN:VCALENDAR
VERSION:2.0
PRODID:-//ChamberMaster//Event Calendar 2.0//EN
METHOD:PUBLISH
X-PUBLISHED-TTL:P3D
REFRESH-INTERVAL:P3D
CALSCALE:GREGORIAN
BEGIN:VEVENT
DTSTART:20160604T130000Z
DTEND:20160604T160000Z
X-MICROSOFT-CDO-ALLDAYEVENT:FALSE
SUMMARY:2nd Annual ACHC Oakland County FAN Run Drugs Out of Town
DESCRIPTION:Join the Alliance of Coalitions for Healthy Communities and the Oakland County chapter of Families Against Narcotics for the 2nd Annual Run Drugs Out of Town 5K run/walk.\n\n\n\nRegistration now open here:\n\nhttps://register.chronotrack.com/r/19296
X-ALT-DESC;FMTTYPE=text/html:Join the Alliance of Coalitions for Healthy Communities and the Oakland County chapter of Families Against Narcotics for the 2nd Annual Run Drugs Out of Town 5K run/walk.<br />\n<br />\nRegistration now open here:<br />\n<a href="http://register.chronotrack.com/r/19296" target="_blank">https://register.chronotrack.com/r/19296</a>
LOCATION:935 N. Custer Ave. Clawson\, MI 48017
UID:e.1571.3651
SEQUENCE:3
DTSTAMP:20260424T060205Z
URL:https://business.auburnhillschamber.com/events/details/2nd-annual-achc-oakland-county-fan-run-drugs-out-of-town-06-04-2016-3651
END:VEVENT

END:VCALENDAR
