BEGIN:VCALENDAR
VERSION:2.0
PRODID:-//ChamberMaster//Event Calendar 2.0//EN
METHOD:PUBLISH
X-PUBLISHED-TTL:P3D
REFRESH-INTERVAL:P3D
CALSCALE:GREGORIAN
BEGIN:VEVENT
DTSTART;VALUE=DATE:20170710
DTEND;VALUE=DATE:20170711
TRANSP:TRANSPARENT
X-MICROSOFT-CDO-ALLDAYEVENT:TRUE
SUMMARY:A Round for Life Golf & Tennis Classic\, benefitting the Wilson Cancer Resource Center\, Beaumont Hospital-Troy
DESCRIPTION:An outstanding day of activities benefiting those who are diagnosed with cancer. Through fundraising\, the Wilson Cancer Resource Center  at Beaumont Hospital-Troy is able to provide patients and the community with free cancer-related counseling\, support and education as well as patient transportation to hospital visits\n\n	4-person scramble golf format\n	Golf gifts\, contests and prizes\n	Tennis gifts\n	Silent auction\n	Raffle\n	Please visit http://Life2017.gesture.com to register to bid on fantastic auction items! Items are added regularly.
X-ALT-DESC;FMTTYPE=text/html:An outstanding day of activities benefiting those who are diagnosed with cancer. Through fundraising\, the Wilson Cancer Resource Center&nbsp\; at Beaumont Hospital-Troy is able to provide patients and the community with free cancer-related counseling\, support and education as well as patient transportation to hospital visits\n<ul>\n	<li>4-person scramble golf format</li>\n	<li>Golf gifts\, contests and prizes</li>\n	<li>Tennis gifts</li>\n	<li>Silent auction</li>\n	<li>Raffle</li>\n	<li>Please visit <a href="http://Life2017.gesture.com">http://Life2017.gesture.com</a> to register to bid on fantastic auction items! Items are added regularly.</li>\n</ul>\n
LOCATION:Orchard Lake Country Club 5000 W. Shore Drive Orchard Lake\, MI 48324
UID:e.1571.4942
SEQUENCE:3
DTSTAMP:20260423T013346Z
URL:https://business.auburnhillschamber.com/events/details/a-round-for-life-golf-tennis-classic-benefitting-the-wilson-cancer-resource-center-beaumont-hospital-troy-4942
END:VEVENT

END:VCALENDAR
