BEGIN:VCALENDAR
VERSION:2.0
PRODID:-//ChamberMaster//Event Calendar 2.0//EN
METHOD:PUBLISH
X-PUBLISHED-TTL:P3D
REFRESH-INTERVAL:P3D
CALSCALE:GREGORIAN
BEGIN:VEVENT
DTSTART:20180211T163000Z
DTEND:20180211T200000Z
X-MICROSOFT-CDO-ALLDAYEVENT:FALSE
SUMMARY:A Servant's Life Living History Tour
DESCRIPTION:A Servant's Life is a unique tour where visitors will have a chance to see life as it was lived in the "downstairs" of Meadow Brook Hall when the head housekeeper invites them to be part of the staff. Guests will learn how the servants lived and worked at The Hall in this behind-the-scenes immersion tour. Complete your afternoon with tea and scones in the Servants' Dining Room.
X-ALT-DESC;FMTTYPE=text/html:A Servant&rsquo\;s Life is a unique tour where visitors will have a chance to see life as it was lived in the &ldquo\;downstairs&rdquo\; of Meadow Brook Hall when the head housekeeper invites them to be part of the staff. Guests will learn how the servants lived and worked at The Hall in this behind-the-scenes immersion tour. Complete your afternoon with tea and scones in the Servants&rsquo\; Dining Room.
LOCATION:Meadow Brook Hall
UID:e.1571.5944
SEQUENCE:3
DTSTAMP:20260422T080816Z
URL:https://business.auburnhillschamber.com/events/details/a-servant-s-life-living-history-tour-02-11-2018-5944
END:VEVENT

END:VCALENDAR
