BEGIN:VCALENDAR
VERSION:2.0
PRODID:-//ChamberMaster//Event Calendar 2.0//EN
METHOD:PUBLISH
X-PUBLISHED-TTL:P3D
REFRESH-INTERVAL:P3D
CALSCALE:GREGORIAN
BEGIN:VEVENT
DTSTART:20160302T170000Z
DTEND:20160302T180000Z
X-MICROSOFT-CDO-ALLDAYEVENT:FALSE
SUMMARY:ACHC Ribbon Cutting & Open House
DESCRIPTION:Please join us in a Ribbon Cutting followed by an Open House for new member Alliance of Coalitions for Healthy Communities.  Their mission is to strengthen collaboration among community partners and mobilize community wide efforts to promote a healthier Oakland County through prevention\, recovery and support.
X-ALT-DESC;FMTTYPE=text/html:<br />\n<span style="font-size: 14px\;"><span style="font-family: arial\;">Please join us in a Ribbon Cutting followed by an Open House for new member Alliance of Coalitions for Healthy Communities.&nbsp\; Their mission is to strengthen collaboration among community partners and mobilize community wide efforts to promote a healthier Oakland County through prevention\, recovery and support.</span></span><br />\n&nbsp\;
LOCATION:895 Opdyke Road Auburn Hills\, MI 48326
UID:e.1571.3685
SEQUENCE:3
DTSTAMP:20260424T131809Z
URL:https://business.auburnhillschamber.com/events/details/achc-ribbon-cutting-open-house-03-02-2016-3685
END:VEVENT

END:VCALENDAR
