BEGIN:VCALENDAR
VERSION:2.0
PRODID:-//ChamberMaster//Event Calendar 2.0//EN
METHOD:PUBLISH
X-PUBLISHED-TTL:P3D
REFRESH-INTERVAL:P3D
CALSCALE:GREGORIAN
BEGIN:VEVENT
DTSTART:20160126T170000Z
DTEND:20160126T183000Z
X-MICROSOFT-CDO-ALLDAYEVENT:FALSE
SUMMARY:Active Shooter Training Session
DESCRIPTION:The City of Auburn Hills and the Auburn Hills Police Department will provide Active Shooter training through a lunch and learn educational opportunity related to Workplace Violence Prevention. The City of Auburn Hills is a leader in the State of Michigan in offering this training. \n\n \n\nAttend one or more sessions!\n\n\n\n	12:00 p.m.  Plan to come on time to enjoy lunch as you learn valuable information to keep you and your employees safe in the case of a workplace event.   \n\n\n\n	12:30 p.m.  The program will begin\; conducted by City of Auburn Hills Lieutenant Cas Miarka.  \n\n\n\n\nAlthough all are welcome to attend\, this program is recommended for HR staff\, Facilities/Operations\, and Security personnel. \n\n\n\nTraining conducted by Lt. Cas Miarka of the Auburn Hills Police Department\n\n \n\nParking is FREE on-street or at the rear of the building in the surface lot or parking structure\n\n \n\nFor more information about the event\, please read this important message from our City Manager\, Tom Tanghe.\n\n\n\nTo register\, contact the chamber at auburnhillschamber.com or call\, 248.853.7862.\n\n\n\nThis is a partnered event with the City of Auburn Hills.
X-ALT-DESC;FMTTYPE=text/html:<span style="font-size:14px\;"><span style="font-family: arial\;">The City of Auburn Hills and the Auburn Hills Police Department will provide&nbsp\;Active Shooter training through&nbsp\;a lunch and learn&nbsp\;educational opportunity related to Workplace Violence Prevention. The City of Auburn Hills is a leader in the State of Michigan in offering this training.&nbsp\;</span></span>\n\n<div style="box-sizing: content-box\; bottom: auto\; clear: none\; color: rgb(51\, 51\, 51)\; content: normal\; direction: inherit\; empty-cells: show\; float: none\; font-family: Arial\, Helvetica\, sans-serif\; font-size: 12px\; font-stretch: inherit\; left: auto\; line-height: 15.6000003814697px\; margin: 0px\; max-height: none\; max-width: none\; opacity: 1\; outline: invert none medium\; outline-offset: 0px\; overflow: visible\; padding: 0px\; position: static\; resize: none\; right: auto\; table-layout: auto\; text-overflow: clip\; top: auto\; vertical-align: baseline\; visibility: inherit\; word-break: inherit\; word-wrap: inherit\; z-index: auto\; border: none\; border-collapse: separate\; border-image-source: none\; border-image-slice: 100% 1 0\; border-image-repeat: stretch\; border-radius: 0px\; height: auto\; width: auto\; box-shadow: none\; background: none rgb(255\, 255\, 255)\;"><span style="font-size:14px\;"><span style="box-sizing: content-box\; bottom: auto\; clear: none\; color: inherit\; content: normal\; direction: inherit\; empty-cells: show\; font-family: inherit\; font-style: inherit\; font-variant: inherit\; font-weight: inherit\; font-stretch: inherit\; left: auto\; letter-spacing: inherit\; line-height: inherit\; margin: 0px\; max-height: none\; max-width: none\; opacity: 1\; outline-offset: 0px\; overflow: visible\; padding: 0px\; position: static\; resize: none\; right: auto\; table-layout: auto\; text-align: inherit\; text-indent: inherit\; text-overflow: clip\; text-transform: inherit\; top: auto\; vertical-align: baseline\; visibility: inherit\; white-space: inherit\; word-break: inherit\; word-spacing: inherit\; word-wrap: inherit\; z-index: auto\; border-width: medium\; border-style: none\; border-color: -moz-use-text-color\; -moz-border-top-colors: none\; -moz-border-right-colors: none\; -moz-border-bottom-colors: none\; -moz-border-left-colors: none\; border-image: none 100% 1 0 1\; border-collapse: separate\; border-radius: 0px\; height: auto\; width: auto\; box-shadow: none\; background: transparent none repeat scroll 0% 0%\;"><span style="box-sizing: content-box\; bottom: auto\; clear: none\; color: inherit\; content: normal\; direction: inherit\; empty-cells: show\; font-family: arial\; font-style: inherit\; font-variant: inherit\; font-weight: inherit\; font-stretch: inherit\; left: auto\; letter-spacing: inherit\; line-height: inherit\; margin: 0px\; max-height: none\; max-width: none\; opacity: 1\; outline-offset: 0px\; overflow: visible\; padding: 0px\; position: static\; resize: none\; right: auto\; table-layout: auto\; text-align: inherit\; text-indent: inherit\; text-overflow: clip\; text-transform: inherit\; top: auto\; vertical-align: baseline\; visibility: inherit\; white-space: inherit\; word-break: inherit\; word-spacing: inherit\; word-wrap: inherit\; z-index: auto\; border-width: medium\; border-style: none\; border-color: -moz-use-text-color\; -moz-border-top-colors: none\; -moz-border-right-colors: none\; -moz-border-bottom-colors: none\; -moz-border-left-colors: none\; border-image: none 100% 1 0 1\; border-collapse: separate\; border-radius: 0px\; height: auto\; width: auto\; box-shadow: none\; background: transparent none repeat scroll 0% 0%\;"><span style="box-sizing: content-box\; font-weight: 700\; bottom: auto\; clear: none\; color: inherit\; content: normal\; direction: inherit\; empty-cells: show\; font-family: inherit\; font-style: inherit\; font-variant: inherit\; font-stretch: inherit\; left: auto\; letter-spacing: inherit\; line-height: inherit\; margin: 0px\; max-height: none\; max-width: none\; opacity: 1\; outline-offset: 0px\; overflow: visible\; padding: 0px\; position: static\; resize: none\; right: auto\; table-layout: auto\; text-align: inherit\; text-indent: inherit\; text-overflow: clip\; text-transform: inherit\; top: auto\; vertical-align: baseline\; visibility: inherit\; white-space: inherit\; word-break: inherit\; word-spacing: inherit\; word-wrap: inherit\; z-index: auto\; border-width: medium\; border-style: none\; border-color: -moz-use-text-color\; -moz-border-top-colors: none\; -moz-border-right-colors: none\; -moz-border-bottom-colors: none\; -moz-border-left-colors: none\; border-image: none 100% 1 0 1\; border-collapse: separate\; border-radius: 0px\; height: auto\; width: auto\; box-shadow: none\; background: transparent none repeat scroll 0% 0%\;">&nbsp\;<br />\nAttend one or more sessions!</span></span></span></span></div>\n\n<div style="box-sizing: content-box\; bottom: auto\; clear: none\; color: rgb(51\, 51\, 51)\; content: normal\; direction: inherit\; empty-cells: show\; float: none\; font-family: Arial\, Helvetica\, sans-serif\; font-size: 12px\; font-stretch: inherit\; left: auto\; line-height: 15.6000003814697px\; margin: 0px\; max-height: none\; max-width: none\; opacity: 1\; outline: invert none medium\; outline-offset: 0px\; overflow: visible\; padding: 0px\; position: static\; resize: none\; right: auto\; table-layout: auto\; text-overflow: clip\; top: auto\; vertical-align: baseline\; visibility: inherit\; word-break: inherit\; word-wrap: inherit\; z-index: auto\; border: none\; border-collapse: separate\; border-image-source: none\; border-image-slice: 100% 1 0\; border-image-repeat: stretch\; border-radius: 0px\; height: auto\; width: auto\; box-shadow: none\; background: none rgb(255\, 255\, 255)\;">\n<ul dir="inherit" style="box-sizing: content-box\; margin: 1em 0px\; bottom: auto\; clear: none\; color: inherit\; content: normal\; direction: inherit\; empty-cells: show\; float: none\; font-family: inherit\; font-size: inherit\; font-style: inherit\; font-variant: inherit\; font-weight: inherit\; font-stretch: inherit\; left: auto\; letter-spacing: inherit\; line-height: inherit\; max-height: none\; max-width: none\; opacity: 1\; outline: invert none medium\; outline-offset: 0px\; overflow: visible\; padding: 0px 0px 0px 40px\; position: static\; resize: none\; right: auto\; table-layout: auto\; text-align: inherit\; text-indent: inherit\; text-overflow: clip\; text-transform: inherit\; top: auto\; vertical-align: baseline\; visibility: inherit\; white-space: inherit\; word-break: inherit\; word-spacing: inherit\; word-wrap: inherit\; z-index: auto\; border: none\; border-collapse: separate\; border-image-source: none\; border-image-slice: 100% 1 0\; border-image-repeat: stretch\; border-radius: 0px\; height: auto\; width: auto\; box-shadow: none\; background: none\;">\n	<li style="box-sizing: content-box\; bottom: auto\; clear: none\; color: inherit\; content: normal\; direction: inherit\; empty-cells: show\; float: none\; font-family: inherit\; font-size: inherit\; font-style: inherit\; font-variant: inherit\; font-weight: inherit\; font-stretch: inherit\; left: auto\; letter-spacing: inherit\; line-height: inherit\; margin: 0px\; max-height: none\; max-width: none\; opacity: 1\; outline: invert none medium\; outline-offset: 0px\; overflow: visible\; padding: 0px\; position: static\; resize: none\; right: auto\; table-layout: auto\; text-indent: inherit\; text-overflow: clip\; text-transform: inherit\; top: auto\; vertical-align: baseline\; visibility: inherit\; white-space: inherit\; word-break: inherit\; word-spacing: inherit\; word-wrap: inherit\; z-index: auto\; border: none\; border-collapse: separate\; border-image-source: none\; border-image-slice: 100% 1 0\; border-image-repeat: stretch\; border-radius: 0px\; height: auto\; width: auto\; box-shadow: none\; background: none\;"><span style="font-size:14px\;"><span style="box-sizing: content-box\; bottom: auto\; clear: none\; color: inherit\; content: normal\; direction: inherit\; empty-cells: show\; font-family: inherit\; font-style: inherit\; font-variant: inherit\; font-weight: inherit\; font-stretch: inherit\; left: auto\; letter-spacing: inherit\; line-height: inherit\; margin: 0px\; max-height: none\; max-width: none\; opacity: 1\; outline-offset: 0px\; overflow: visible\; padding: 0px\; position: static\; resize: none\; right: auto\; table-layout: auto\; text-align: inherit\; text-indent: inherit\; text-overflow: clip\; text-transform: inherit\; top: auto\; vertical-align: baseline\; visibility: inherit\; white-space: inherit\; word-break: inherit\; word-spacing: inherit\; word-wrap: inherit\; z-index: auto\; border-width: medium\; border-style: none\; border-color: -moz-use-text-color\; -moz-border-top-colors: none\; -moz-border-right-colors: none\; -moz-border-bottom-colors: none\; -moz-border-left-colors: none\; border-image: none 100% 1 0 1\; border-collapse: separate\; border-radius: 0px\; height: auto\; width: auto\; box-shadow: none\; background: transparent none repeat scroll 0% 0%\;"><span style="box-sizing: content-box\; bottom: auto\; clear: none\; color: inherit\; content: normal\; direction: inherit\; empty-cells: show\; font-family: arial\; font-style: inherit\; font-variant: inherit\; font-weight: inherit\; font-stretch: inherit\; left: auto\; letter-spacing: inherit\; line-height: inherit\; margin: 0px\; max-height: none\; max-width: none\; opacity: 1\; outline-offset: 0px\; overflow: visible\; padding: 0px\; position: static\; resize: none\; right: auto\; table-layout: auto\; text-align: inherit\; text-indent: inherit\; text-overflow: clip\; text-transform: inherit\; top: auto\; vertical-align: baseline\; visibility: inherit\; white-space: inherit\; word-break: inherit\; word-spacing: inherit\; word-wrap: inherit\; z-index: auto\; border-width: medium\; border-style: none\; border-color: -moz-use-text-color\; -moz-border-top-colors: none\; -moz-border-right-colors: none\; -moz-border-bottom-colors: none\; -moz-border-left-colors: none\; border-image: none 100% 1 0 1\; border-collapse: separate\; border-radius: 0px\; height: auto\; width: auto\; box-shadow: none\; background: transparent none repeat scroll 0% 0%\;"><span style="box-sizing: content-box\; font-weight: 700\; bottom: auto\; clear: none\; color: inherit\; content: normal\; direction: inherit\; empty-cells: show\; font-family: inherit\; font-style: inherit\; font-variant: inherit\; font-stretch: inherit\; left: auto\; letter-spacing: inherit\; line-height: inherit\; margin: 0px\; max-height: none\; max-width: none\; opacity: 1\; outline-offset: 0px\; overflow: visible\; padding: 0px\; position: static\; resize: none\; right: auto\; table-layout: auto\; text-align: inherit\; text-indent: inherit\; text-overflow: clip\; text-transform: inherit\; top: auto\; vertical-align: baseline\; visibility: inherit\; white-space: inherit\; word-break: inherit\; word-spacing: inherit\; word-wrap: inherit\; z-index: auto\; border-width: medium\; border-style: none\; border-color: -moz-use-text-color\; -moz-border-top-colors: none\; -moz-border-right-colors: none\; -moz-border-bottom-colors: none\; -moz-border-left-colors: none\; border-image: none 100% 1 0 1\; border-collapse: separate\; border-radius: 0px\; height: auto\; width: auto\; box-shadow: none\; background: transparent none repeat scroll 0% 0%\;">12:00 p.m</span>. &nbsp\;Plan to come on time to enjoy lunch&nbsp\;as you learn valuable information to keep you and your employees safe in the case of a workplace event.&nbsp\;&nbsp\;&nbsp\;</span></span></span></li>\n</ul>\n\n<ul>\n	<li style="box-sizing: content-box\; bottom: auto\; clear: none\; color: inherit\; content: normal\; empty-cells: show\; float: none\; font-family: inherit\; font-size: inherit\; font-style: inherit\; font-variant: inherit\; font-weight: inherit\; font-stretch: inherit\; left: auto\; letter-spacing: inherit\; line-height: inherit\; margin: 0px\; max-height: none\; max-width: none\; opacity: 1\; outline: invert none medium\; outline-offset: 0px\; overflow: visible\; padding: 0px\; position: static\; resize: none\; right: auto\; table-layout: auto\; text-indent: inherit\; text-overflow: clip\; text-transform: inherit\; top: auto\; vertical-align: baseline\; visibility: inherit\; white-space: inherit\; word-break: inherit\; word-spacing: inherit\; word-wrap: inherit\; z-index: auto\; border: none\; border-image-source: none\; border-image-slice: 100% 1 0\; border-image-repeat: stretch\; border-collapse: separate\; border-radius: 0px\; height: auto\; width: auto\; box-shadow: none\; background: none\;"><span style="font-size:14px\;"><span style="box-sizing: content-box\; bottom: auto\; clear: none\; color: inherit\; content: normal\; direction: inherit\; empty-cells: show\; font-family: inherit\; font-style: inherit\; font-variant: inherit\; font-weight: inherit\; font-stretch: inherit\; left: auto\; letter-spacing: inherit\; line-height: inherit\; margin: 0px\; max-height: none\; max-width: none\; opacity: 1\; outline-offset: 0px\; overflow: visible\; padding: 0px\; position: static\; resize: none\; right: auto\; table-layout: auto\; text-align: inherit\; text-indent: inherit\; text-overflow: clip\; text-transform: inherit\; top: auto\; vertical-align: baseline\; visibility: inherit\; white-space: inherit\; word-break: inherit\; word-spacing: inherit\; word-wrap: inherit\; z-index: auto\; border-width: medium\; border-style: none\; border-color: -moz-use-text-color\; -moz-border-top-colors: none\; -moz-border-right-colors: none\; -moz-border-bottom-colors: none\; -moz-border-left-colors: none\; border-image: none 100% 1 0 1\; border-collapse: separate\; border-radius: 0px\; height: auto\; width: auto\; box-shadow: none\; background: transparent none repeat scroll 0% 0%\;"><span style="box-sizing: content-box\; bottom: auto\; clear: none\; color: inherit\; content: normal\; direction: inherit\; empty-cells: show\; font-family: arial\; font-style: inherit\; font-variant: inherit\; font-weight: inherit\; font-stretch: inherit\; left: auto\; letter-spacing: inherit\; line-height: inherit\; margin: 0px\; max-height: none\; max-width: none\; opacity: 1\; outline-offset: 0px\; overflow: visible\; padding: 0px\; position: static\; resize: none\; right: auto\; table-layout: auto\; text-align: inherit\; text-indent: inherit\; text-overflow: clip\; text-transform: inherit\; top: auto\; vertical-align: baseline\; visibility: inherit\; white-space: inherit\; word-break: inherit\; word-spacing: inherit\; word-wrap: inherit\; z-index: auto\; border-width: medium\; border-style: none\; border-color: -moz-use-text-color\; -moz-border-top-colors: none\; -moz-border-right-colors: none\; -moz-border-bottom-colors: none\; -moz-border-left-colors: none\; border-image: none 100% 1 0 1\; border-collapse: separate\; border-radius: 0px\; height: auto\; width: auto\; box-shadow: none\; background: transparent none repeat scroll 0% 0%\;"><span style="box-sizing: content-box\; font-weight: 700\; bottom: auto\; clear: none\; color: inherit\; content: normal\; direction: inherit\; empty-cells: show\; font-family: inherit\; font-style: inherit\; font-variant: inherit\; font-stretch: inherit\; left: auto\; letter-spacing: inherit\; line-height: inherit\; margin: 0px\; max-height: none\; max-width: none\; opacity: 1\; outline-offset: 0px\; overflow: visible\; padding: 0px\; position: static\; resize: none\; right: auto\; table-layout: auto\; text-align: inherit\; text-indent: inherit\; text-overflow: clip\; text-transform: inherit\; top: auto\; vertical-align: baseline\; visibility: inherit\; white-space: inherit\; word-break: inherit\; word-spacing: inherit\; word-wrap: inherit\; z-index: auto\; border-width: medium\; border-style: none\; border-color: -moz-use-text-color\; -moz-border-top-colors: none\; -moz-border-right-colors: none\; -moz-border-bottom-colors: none\; -moz-border-left-colors: none\; border-image: none 100% 1 0 1\; border-collapse: separate\; border-radius: 0px\; height: auto\; width: auto\; box-shadow: none\; background: transparent none repeat scroll 0% 0%\;">12:30&nbsp\;p.m.</span>&nbsp\; The&nbsp\;program will&nbsp\;begin\; conducted by City of&nbsp\;Auburn Hills Lieutenant Cas Miarka.&nbsp\;&nbsp\;</span></span></span></li>\n</ul>\n</div>\n\n<div style="box-sizing: content-box\; bottom: auto\; clear: none\; color: rgb(51\, 51\, 51)\; content: normal\; direction: inherit\; empty-cells: show\; float: none\; font-family: Arial\, Helvetica\, sans-serif\; font-size: 12px\; font-stretch: inherit\; left: auto\; line-height: 15.6000003814697px\; margin: 0px\; max-height: none\; max-width: none\; opacity: 1\; outline: invert none medium\; outline-offset: 0px\; overflow: visible\; padding: 0px\; position: static\; resize: none\; right: auto\; table-layout: auto\; text-overflow: clip\; top: auto\; vertical-align: baseline\; visibility: inherit\; word-break: inherit\; word-wrap: inherit\; z-index: auto\; border: none\; border-collapse: separate\; border-image-source: none\; border-image-slice: 100% 1 0\; border-image-repeat: stretch\; border-radius: 0px\; height: auto\; width: auto\; box-shadow: none\; background: none rgb(255\, 255\, 255)\;">\n<div style="box-sizing: content-box\; bottom: auto\; clear: none\; color: rgb(51\, 51\, 51)\; content: normal\; direction: inherit\; empty-cells: show\; float: none\; font-family: Arial\, Helvetica\, sans-serif\; font-size: 12px\; font-stretch: inherit\; left: auto\; line-height: 15.6000003814697px\; margin: 0px\; max-height: none\; max-width: none\; opacity: 1\; outline: invert none medium\; outline-offset: 0px\; overflow: visible\; padding: 0px\; position: static\; resize: none\; right: auto\; table-layout: auto\; text-overflow: clip\; top: auto\; vertical-align: baseline\; visibility: inherit\; word-break: inherit\; word-wrap: inherit\; z-index: auto\; border: none\; border-collapse: separate\; border-image-source: none\; border-image-slice: 100% 1 0\; border-image-repeat: stretch\; border-radius: 0px\; height: auto\; width: auto\; box-shadow: none\; background: none rgb(255\, 255\, 255)\;"><span style="font-size:14px\;"><span style="box-sizing: content-box\; bottom: auto\; clear: none\; color: inherit\; content: normal\; direction: inherit\; empty-cells: show\; font-family: inherit\; font-style: inherit\; font-variant: inherit\; font-weight: inherit\; font-stretch: inherit\; left: auto\; letter-spacing: inherit\; line-height: inherit\; margin: 0px\; max-height: none\; max-width: none\; opacity: 1\; outline-offset: 0px\; overflow: visible\; padding: 0px\; position: static\; resize: none\; right: auto\; table-layout: auto\; text-align: inherit\; text-indent: inherit\; text-overflow: clip\; text-transform: inherit\; top: auto\; vertical-align: baseline\; visibility: inherit\; white-space: inherit\; word-break: inherit\; word-spacing: inherit\; word-wrap: inherit\; z-index: auto\; border-width: medium\; border-style: none\; border-color: -moz-use-text-color\; -moz-border-top-colors: none\; -moz-border-right-colors: none\; -moz-border-bottom-colors: none\; -moz-border-left-colors: none\; border-image: none 100% 1 0 1\; border-collapse: separate\; border-radius: 0px\; height: auto\; width: auto\; box-shadow: none\; background: transparent none repeat scroll 0% 0%\;"><span style="box-sizing: content-box\; bottom: auto\; clear: none\; color: inherit\; content: normal\; direction: inherit\; empty-cells: show\; font-family: arial\; font-style: inherit\; font-variant: inherit\; font-weight: inherit\; font-stretch: inherit\; left: auto\; letter-spacing: inherit\; line-height: inherit\; margin: 0px\; max-height: none\; max-width: none\; opacity: 1\; outline-offset: 0px\; overflow: visible\; padding: 0px\; position: static\; resize: none\; right: auto\; table-layout: auto\; text-align: inherit\; text-indent: inherit\; text-overflow: clip\; text-transform: inherit\; top: auto\; vertical-align: baseline\; visibility: inherit\; white-space: inherit\; word-break: inherit\; word-spacing: inherit\; word-wrap: inherit\; z-index: auto\; border-width: medium\; border-style: none\; border-color: -moz-use-text-color\; -moz-border-top-colors: none\; -moz-border-right-colors: none\; -moz-border-bottom-colors: none\; -moz-border-left-colors: none\; border-image: none 100% 1 0 1\; border-collapse: separate\; border-radius: 0px\; height: auto\; width: auto\; box-shadow: none\; background: transparent none repeat scroll 0% 0%\;">Although all are welcome to attend\, this program is recommended for HR staff\, Facilities/Operations\, and Security personnel.&nbsp\;</span></span><br />\n<br />\n<span style="font-family: arial\;">Training conducted by Lt. Cas Miarka of the Auburn Hills Police Department<br />\n&nbsp\;<br />\nParking is FREE on-street or at the rear of the building in the surface lot or parking structure<br />\n&nbsp\;<br />\nFor more information about the event\, please read this<a href="http://96bda424cfcc34d9dd1a-0a7f10f87519dba22d2dbc6233a731e5.r41.cf2.rackcdn.com/auburnhillsc/pdfs/Active_Shooter_Chamber_Announcement.pdf"> important message</a> from our City Manager\, Tom Tanghe.</span></span><br />\n<br />\n<span style="box-sizing: content-box\; bottom: auto\; clear: none\; color: inherit\; content: normal\; direction: inherit\; empty-cells: show\; font-family: inherit\; font-size: 14px\; font-style: inherit\; font-variant: inherit\; font-weight: inherit\; font-stretch: inherit\; left: auto\; letter-spacing: inherit\; line-height: inherit\; margin: 0px\; max-height: none\; max-width: none\; opacity: 1\; outline: invert none medium\; outline-offset: 0px\; overflow: visible\; padding: 0px\; position: static\; resize: none\; right: auto\; table-layout: auto\; text-align: inherit\; text-indent: inherit\; text-overflow: clip\; text-transform: inherit\; top: auto\; vertical-align: baseline\; visibility: inherit\; white-space: inherit\; word-break: inherit\; word-spacing: inherit\; word-wrap: inherit\; z-index: auto\; border: none\; border-collapse: separate\; border-image-source: none\; border-image-slice: 100% 1 0\; border-image-repeat: stretch\; border-radius: 0px\; height: auto\; width: auto\; box-shadow: none\; background: none\;"><span style="box-sizing: content-box\; bottom: auto\; clear: none\; color: inherit\; content: normal\; direction: inherit\; empty-cells: show\; font-family: arial\; font-size: inherit\; font-style: inherit\; font-variant: inherit\; font-weight: inherit\; font-stretch: inherit\; left: auto\; letter-spacing: inherit\; line-height: inherit\; margin: 0px\; max-height: none\; max-width: none\; opacity: 1\; outline: invert none medium\; outline-offset: 0px\; overflow: visible\; padding: 0px\; position: static\; resize: none\; right: auto\; table-layout: auto\; text-align: inherit\; text-indent: inherit\; text-overflow: clip\; text-transform: inherit\; top: auto\; vertical-align: baseline\; visibility: inherit\; white-space: inherit\; word-break: inherit\; word-spacing: inherit\; word-wrap: inherit\; z-index: auto\; border: none\; border-collapse: separate\; border-image-source: none\; border-image-slice: 100% 1 0\; border-image-repeat: stretch\; border-radius: 0px\; height: auto\; width: auto\; box-shadow: none\; background: none\;">To register\,&nbsp\;contact the chamber at&nbsp\;<a href="http://r20.rs6.net/tn.jsp?e=001ECJWhaFbAFFVfPILFFme435pIxgPIXoQgbqLf7NeuBxrsy2WPhHjD3_2fKcrxIpGoA4VHYwyq0-XbOpUT6n1khRbpraiDeScIPYCrJAnZO0xTxwn-e1opw==" shape="rect" style="box-sizing: content-box\; color: rgb(63\, 63\, 63)\; font-size: inherit\; bottom: auto\; clear: none\; content: normal\; direction: inherit\; display: inline\; empty-cells: show\; float: none\; font-family: inherit\; font-style: inherit\; font-variant: inherit\; font-weight: inherit\; font-stretch: inherit\; left: auto\; letter-spacing: inherit\; line-height: inherit\; margin: 0px\; max-height: none\; max-width: none\; opacity: 1\; outline: invert none medium\; outline-offset: 0px\; overflow: visible\; padding: 0px\; position: static\; resize: none\; right: auto\; table-layout: auto\; text-align: inherit\; text-indent: inherit\; text-overflow: clip\; text-transform: inherit\; top: auto\; vertical-align: baseline\; visibility: inherit\; white-space: inherit\; word-break: inherit\; word-spacing: inherit\; word-wrap: break-word\; z-index: auto\; border: none\; border-collapse: separate\; border-image-source: none\; border-image-slice: 100% 1 0\; border-image-repeat: stretch\; border-radius: 0px\; height: auto\; width: auto\; box-shadow: none\; background: none\;" target="_blank">auburnhillschamber.com</a>&nbsp\;or call\, 248.853.7862.<br />\n<br />\n<em>This is a partnered event with the City of Auburn Hills.</em></span></span></div>\n</div>\n
LOCATION:University Center 3350 Auburn Rd Auburn Hills\, MI 48326
UID:e.1571.3622
SEQUENCE:3
DTSTAMP:20260424T152107Z
URL:https://business.auburnhillschamber.com/events/details/active-shooter-training-session-01-26-2016-3622
END:VEVENT

END:VCALENDAR
