BEGIN:VCALENDAR
VERSION:2.0
PRODID:-//ChamberMaster//Event Calendar 2.0//EN
METHOD:PUBLISH
X-PUBLISHED-TTL:P3D
REFRESH-INTERVAL:P3D
CALSCALE:GREGORIAN
BEGIN:VEVENT
DTSTART:20150519T190000Z
DTEND:20150519T230000Z
X-MICROSOFT-CDO-ALLDAYEVENT:FALSE
SUMMARY:Allegra Marketing Print Signs Ribbon Cutting Celebrating New Location & 15 Year Anniversary
DESCRIPTION:You are invited to celebrate Allegra Marketing Print Signs' 15-Year Anniversary operating in Auburn Hills. Please join us for a ribbon cutting and open house.
X-ALT-DESC;FMTTYPE=text/html:<span style="font-family:calibri\,sans-serif\;"><span style="font-size:11.0pt\;">You are invited to celebrate Allegra Marketing Print Signs&rsquo\; 15-Year Anniversary operating in Auburn Hills.&nbsp\;</span></span><span style="font-size: 11pt\; font-family: Calibri\, sans-serif\; color: black\; background-image: initial\; background-attachment: initial\; background-size: initial\; background-origin: initial\; background-clip: initial\; background-position: initial\; background-repeat: initial\;">Please join us for a ribbon cutting and open house.&nbsp\;</span>
LOCATION:Allegra Marketing Print Signs 2285 N. Opdyke Rd.\, Suite G Auburn Hills\, MI 48326
UID:e.1571.2318
SEQUENCE:3
DTSTAMP:20260425T111652Z
URL:https://business.auburnhillschamber.com/events/details/allegra-marketing-print-signs-ribbon-cutting-celebrating-new-location-15-year-anniversary-05-19-2015-2318
END:VEVENT

END:VCALENDAR
