BEGIN:VCALENDAR
VERSION:2.0
PRODID:-//ChamberMaster//Event Calendar 2.0//EN
METHOD:PUBLISH
X-PUBLISHED-TTL:P3D
REFRESH-INTERVAL:P3D
CALSCALE:GREGORIAN
BEGIN:VEVENT
DTSTART:20150210T163000Z
DTEND:20150210T180000Z
X-MICROSOFT-CDO-ALLDAYEVENT:FALSE
SUMMARY:Ambassador Committee Meeting (February)
DESCRIPTION:Ambassadors are members who promote the value of our organization to the business community. They are key Chamber representatives\, meeting monthly.
X-ALT-DESC;FMTTYPE=text/html:Ambassadors are members who promote the value of our organization to the business community. They are key Chamber representatives\, meeting monthly.
LOCATION:Oakland University Credit Union 3265 Five Points Drive Auburn Hills\, MI 48326
UID:e.1571.1206
SEQUENCE:3
DTSTAMP:20260426T003755Z
URL:https://business.auburnhillschamber.com/events/details/ambassador-committee-meeting-february-02-10-2015-1206
END:VEVENT

END:VCALENDAR
