BEGIN:VCALENDAR
VERSION:2.0
PRODID:-//ChamberMaster//Event Calendar 2.0//EN
METHOD:PUBLISH
X-PUBLISHED-TTL:P3D
REFRESH-INTERVAL:P3D
CALSCALE:GREGORIAN
BEGIN:VEVENT
DTSTART:20151204T200000Z
DTEND:20151204T210000Z
X-MICROSOFT-CDO-ALLDAYEVENT:FALSE
SUMMARY:Applebee's Revitalization Ribbon Cutting
DESCRIPTION:Please join the Auburn Hills Chamber as we celebrate the revitalization of the Auburn Hills Applebee's with a ribbon cutting on Friday\, December 4 at 3:00pm.\n\n\n\nTEAM Schostak Family Restaurants (TSFR) has invested a total of $1.3 million to revitalize the bar at 21 of Michigan Applebee's locations.\n\n \n\nThe substantial investment included a complete overhaul of the Auburn Hills restaurant\, as well as a partial bar revitalization of 18 other TSFR Applebee's locations.\n\n \n\nAs part of the revitalization\, the restaurant upgrades include new seating\, additional and new TVs and new draft towers\, while the total bar revitalizations also feature an updated modern bar atmosphere complete with a new sound system and juke box\, wine on tap\, new back bar display\, new front entry way\, new lighting and new d cor.\n\n \n\nThis revitalization project creates the perfect space for a variety of restaurant goers\, ranging from avid sports fans wanting a seat for the big game to couples looking for the perfect convenient date night spot.
X-ALT-DESC;FMTTYPE=text/html:<span style="font-size: 10pt\; font-family: Arial\, sans-serif\; background-image: initial\; background-attachment: initial\; background-size: initial\; background-origin: initial\; background-clip: initial\; background-position: initial\; background-repeat: initial\;">Please join the Auburn Hills Chamber as we celebrate the<span class="apple-converted-space">&nbsp\;</span></span><span style="font-size: 11pt\; font-family: Calibri\, sans-serif\;">revitalization</span><span class="apple-converted-space"><span style="font-size: 10pt\; font-family: Arial\, sans-serif\; background-image: initial\; background-attachment: initial\; background-size: initial\; background-origin: initial\; background-clip: initial\; background-position: initial\; background-repeat: initial\;">&nbsp\;</span></span><span style="font-size: 10pt\; font-family: Arial\, sans-serif\; background-image: initial\; background-attachment: initial\; background-size: initial\; background-origin: initial\; background-clip: initial\; background-position: initial\; background-repeat: initial\;">of the Auburn Hills&nbsp\;</span><span data-scayt-lang="en_US" data-scayt-word="Applebee's" style="background-position: 52% 100%\;"><span class="scayt-misspell-word"><span style="font-size: 10pt\; font-family: Arial\, sans-serif\;">Applebee&#39\;s</span></span></span><span class="apple-converted-space"><span style="font-size: 10pt\; font-family: Arial\, sans-serif\; background-image: initial\; background-attachment: initial\; background-size: initial\; background-origin: initial\; background-clip: initial\; background-position: initial\; background-repeat: initial\;">&nbsp\;</span></span><span style="font-size: 10pt\; font-family: Arial\, sans-serif\; background-image: initial\; background-attachment: initial\; background-size: initial\; background-origin: initial\; background-clip: initial\; background-position: initial\; background-repeat: initial\;">with a ribbon cutting on Friday\, December 4 at 3:</span><span data-scayt-lang="en_US" data-scayt-word="00pm" style="background-position: 52% 100%\;"><span class="scayt-misspell-word"><span style="font-size: 10pt\; font-family: Arial\, sans-serif\;">00pm</span></span></span><span style="font-size: 10pt\; font-family: Arial\, sans-serif\; background-image: initial\; background-attachment: initial\; background-size: initial\; background-origin: initial\; background-clip: initial\; background-position: initial\; background-repeat: initial\;">.</span><br />\n<br />\n<span style="font-size: 10pt\; font-family: Arial\, sans-serif\;"><span style="background-image: initial\; background-attachment: initial\; background-size: initial\; background-origin: initial\; background-clip: initial\; background-position: initial\; background-repeat: initial\;">TEAM<span class="apple-converted-space">&nbsp\;</span></span><span class="scayt-misspell-word"><span data-scayt-lang="en_US" data-scayt-word="Schostak" style="background-position: 52% 100%\;">Schostak</span></span><span class="apple-converted-space"><span style="background-image: initial\; background-attachment: initial\; background-size: initial\; background-origin: initial\; background-clip: initial\; background-position: initial\; background-repeat: initial\;">&nbsp\;</span><span style="background-image: initial\; background-attachment: initial\; background-size: initial\; background-origin: initial\; background-clip: initial\; background-position: initial\; background-repeat: initial\;">Family Restaurants (</span></span><span class="scayt-misspell-word"><span data-scayt-lang="en_US" data-scayt-word="TSFR" style="background-position: 52% 100%\;">TSFR</span></span><span style="background-image: initial\; background-attachment: initial\; background-size: initial\; background-origin: initial\; background-clip: initial\; background-position: initial\; background-repeat: initial\;">) has invested a total of $1.3 million to revitalize the bar at 21 of Michigan Applebee&#39\;s locations.</span><br />\n<span style="background-image: initial\; background-attachment: initial\; background-size: initial\; background-origin: initial\; background-clip: initial\; background-position: initial\; background-repeat: initial\;">&nbsp\;</span><br />\n<span style="background-image: initial\; background-attachment: initial\; background-size: initial\; background-origin: initial\; background-clip: initial\; background-position: initial\; background-repeat: initial\;">The substantial investment included a complete overhaul of the Auburn Hills restaurant\, as well as a partial bar revitalization of 18 other<span class="apple-converted-space">&nbsp\;</span></span><span class="scayt-misspell-word"><span data-scayt-lang="en_US" data-scayt-word="TSFR" style="background-position: 52% 100%\;">TSFR</span></span><span class="apple-converted-space"><span style="background-image: initial\; background-attachment: initial\; background-size: initial\; background-origin: initial\; background-clip: initial\; background-position: initial\; background-repeat: initial\;">&nbsp\;</span><span style="background-image: initial\; background-attachment: initial\; background-size: initial\; background-origin: initial\; background-clip: initial\; background-position: initial\; background-repeat: initial\;">Applebee&#39\;s locations.</span></span><br />\n<span style="background-image: initial\; background-attachment: initial\; background-size: initial\; background-origin: initial\; background-clip: initial\; background-position: initial\; background-repeat: initial\;">&nbsp\;</span><br />\n<span style="background-image: initial\; background-attachment: initial\; background-size: initial\; background-origin: initial\; background-clip: initial\; background-position: initial\; background-repeat: initial\;">As part of the revitalization\, the restaurant upgrades include new seating\, additional and new TVs and new draft towers\, while the total bar<span class="apple-converted-space">&nbsp\;</span></span><span class="scayt-misspell-word"><span data-scayt-lang="en_US" data-scayt-word="revitalizations" style="background-position: 52% 100%\;">revitalizations</span></span><span class="apple-converted-space"><span style="background-image: initial\; background-attachment: initial\; background-size: initial\; background-origin: initial\; background-clip: initial\; background-position: initial\; background-repeat: initial\;">&nbsp\;</span><span style="background-image: initial\; background-attachment: initial\; background-size: initial\; background-origin: initial\; background-clip: initial\; background-position: initial\; background-repeat: initial\;">also feature an updated modern bar atmosphere complete with a new sound system and juke box\, wine on tap\, new back bar display\, new front entry way\, new lighting and new<span class="apple-converted-space">&nbsp\;</span></span></span><span class="scayt-misspell-word"><span data-scayt-lang="en_US" data-scayt-word="décor" style="background-position: 52% 100%\;">d&eacute\;cor</span></span><span style="background-image: initial\; background-attachment: initial\; background-size: initial\; background-origin: initial\; background-clip: initial\; background-position: initial\; background-repeat: initial\;">.</span><br />\n<span style="background-image: initial\; background-attachment: initial\; background-size: initial\; background-origin: initial\; background-clip: initial\; background-position: initial\; background-repeat: initial\;">&nbsp\;</span><br />\n<span style="background-image: initial\; background-attachment: initial\; background-size: initial\; background-origin: initial\; background-clip: initial\; background-position: initial\; background-repeat: initial\;">This revitalization project creates the perfect space for a variety of restaurant goers\, ranging from avid sports fans wanting a seat for the big game to couples looking for the perfect convenient date night spot.</span></span>
LOCATION:2105 N. Squirrel Rd. Auburn Hills\, MI 48326
UID:e.1571.3619
SEQUENCE:3
DTSTAMP:20260424T192621Z
URL:https://business.auburnhillschamber.com/events/details/applebee-s-revitalization-ribbon-cutting-12-04-2015-3619
END:VEVENT

END:VCALENDAR
