BEGIN:VCALENDAR
VERSION:2.0
PRODID:-//ChamberMaster//Event Calendar 2.0//EN
METHOD:PUBLISH
X-PUBLISHED-TTL:P3D
REFRESH-INTERVAL:P3D
CALSCALE:GREGORIAN
BEGIN:VEVENT
DTSTART:20170411T153000Z
DTEND:20170411T163000Z
X-MICROSOFT-CDO-ALLDAYEVENT:FALSE
SUMMARY:April 2017 Ambassador Meeting
DESCRIPTION:April Ambassador Committee Meeting
X-ALT-DESC;FMTTYPE=text/html:April Ambassador Committee Meeting
LOCATION:The University Center 3350 Auburn Rd Auburn Hills\, MI 48326
UID:e.1571.4096
SEQUENCE:3
DTSTAMP:20260423T061432Z
URL:https://business.auburnhillschamber.com/events/details/april-2017-ambassador-meeting-4096
END:VEVENT

END:VCALENDAR
