BEGIN:VCALENDAR
VERSION:2.0
PRODID:-//ChamberMaster//Event Calendar 2.0//EN
METHOD:PUBLISH
X-PUBLISHED-TTL:P3D
REFRESH-INTERVAL:P3D
CALSCALE:GREGORIAN
BEGIN:VEVENT
DTSTART:20161014T220000Z
DTEND:20161015T030000Z
X-MICROSOFT-CDO-ALLDAYEVENT:FALSE
SUMMARY:AUTOMATION ALLEY'S 16TH ANNUAL AWARDS GALA
DESCRIPTION:The road to high-tech innovation runs through Automation Alley. Who are the visionaries behind the wheel? Join us as we celebrate the thinkers and the makers leading Southeast Michigan's reinvention. Awards will be presented in the following categories: Outstanding Educational Initiative Award Startup of the Year Excellence in International Business Award Advanced Manufacturer of the Year Technology Company of the Year Agenda: VIP Reception (Meet the award nominees) Cocktail Hour Dinner Awards Presentation After-Party (Live entertainment and cigar lounge)
X-ALT-DESC;FMTTYPE=text/html:The road to high-tech innovation runs through Automation Alley. Who are the visionaries behind the wheel? Join us as we celebrate the thinkers and the makers leading Southeast Michigan&rsquo\;s reinvention. Awards will be presented in the following categories: Outstanding Educational Initiative Award Startup of the Year Excellence in International Business Award Advanced Manufacturer of the Year Technology Company of the Year Agenda: VIP Reception (Meet the award nominees) Cocktail Hour Dinner Awards Presentation After-Party (Live entertainment and cigar lounge)
LOCATION:Detroit Yacht Club\, Belle Isle 1 Riverbank Dr\, Detroit\, MI 48207
UID:e.1571.3931
SEQUENCE:3
DTSTAMP:20260424T000416Z
URL:https://business.auburnhillschamber.com/events/details/automation-alley-s-16th-annual-awards-gala-10-14-2016-3931
END:VEVENT

END:VCALENDAR
