BEGIN:VCALENDAR
VERSION:2.0
PRODID:-//ChamberMaster//Event Calendar 2.0//EN
METHOD:PUBLISH
X-PUBLISHED-TTL:P3D
REFRESH-INTERVAL:P3D
CALSCALE:GREGORIAN
BEGIN:VEVENT
DTSTART:20160621T123000Z
DTEND:20160621T160000Z
X-MICROSOFT-CDO-ALLDAYEVENT:FALSE
SUMMARY:AUTOMOTIVE SUPPLIER SUMMIT: ?LEVERAGING DIGITAL MANUFACTURING TO WIN BUSINESS?
DESCRIPTION:How can automotive suppliers improve their ability to compete and win more business through the adoption of digital manufacturing technologies and practices? When it comes to responding to market demands and breakthrough technology\, many automotive and transportation suppliers face challenges keeping up with OEMs. Automation Alley and Siemens invite you to this half-day summit of education and discussion featuring the latest in digital manufacturing leading practices\, including digital technological updates and model based manufacturing trends. Learn how to design\, manufacture and deliver better products while keeping your digital awareness up to date.
X-ALT-DESC;FMTTYPE=text/html:<span style="background-color:rgb(255\, 255\, 255)\; color:rgb(64\, 64\, 65)">How can automotive suppliers improve their ability to compete and win more business through the adoption of digital manufacturing technologies and practices? When it comes to responding to market demands and breakthrough technology\, many automotive and transportation suppliers face challenges keeping up with OEMs. Automation Alley and Siemens invite you to this half-day summit of education and discussion featuring the latest in digital manufacturing leading practices\, including digital technological updates and model based manufacturing trends. Learn how to design\, manufacture and deliver better products while keeping your digital awareness up to date.</span>
LOCATION:Automation Alley\, 2675 Bellingham Dr.\, Troy\, MI 48083
UID:e.1571.3705
SEQUENCE:3
DTSTAMP:20260424T061315Z
URL:https://business.auburnhillschamber.com/events/details/automotive-supplier-summit-leveraging-digital-manufacturing-to-win-business-06-21-2016-3705
END:VEVENT

END:VCALENDAR
