BEGIN:VCALENDAR
VERSION:2.0
PRODID:-//ChamberMaster//Event Calendar 2.0//EN
METHOD:PUBLISH
X-PUBLISHED-TTL:P3D
REFRESH-INTERVAL:P3D
CALSCALE:GREGORIAN
BEGIN:VEVENT
DTSTART:20150517T123000Z
DTEND:20150517T123000Z
X-MICROSOFT-CDO-ALLDAYEVENT:FALSE
SUMMARY:Avondale/Oakland University Partnership Hearts and Hands
DESCRIPTION:The Hearts and Hands 5K will be an incredible first time event. The course will begin and end at Avondale High School\; the 5K will run through portions of beautiful downtown Auburn Hills. Proceeds of this event will go to sponsor the Avondale Education Foundation\, the Galileo Institute for Teacher Leadership\, Oakland University\, and the Avondale/Oakland University Partnership.
X-ALT-DESC;FMTTYPE=text/html:The Hearts and Hands 5K will be an incredible first time event. The course will begin and end at Avondale High School\; the 5K will run through portions of beautiful downtown Auburn Hills. Proceeds of this event will go to sponsor the Avondale Education Foundation\, the Galileo Institute for Teacher Leadership\, Oakland University\, and the Avondale/Oakland University Partnership.
LOCATION:Avondale High School Track
UID:e.1571.2311
SEQUENCE:3
DTSTAMP:20260425T105435Z
URL:https://business.auburnhillschamber.com/events/details/avondale-oakland-university-partnership-hearts-and-hands-05-17-2015-2311
END:VEVENT

END:VCALENDAR
