BEGIN:VCALENDAR
VERSION:2.0
PRODID:-//ChamberMaster//Event Calendar 2.0//EN
METHOD:PUBLISH
X-PUBLISHED-TTL:P3D
REFRESH-INTERVAL:P3D
CALSCALE:GREGORIAN
BEGIN:VEVENT
DTSTART:20150526T220000Z
DTEND:20150527T000000Z
X-MICROSOFT-CDO-ALLDAYEVENT:FALSE
SUMMARY:Baker College Health Education Fair
DESCRIPTION:This free event is open to the public with something for people of all ages. There will be health screenings\, health education and demonstrations\, and attendees can get a close-up look at Beaumont Hospital?s ambulance and emergency helicopter! More than 200 students in Baker College?s health sciences programs\, joined by health care professionals and others in health-related fields\, will offer the following\, which are all FREE: ? Ultrasound screenings (cardiac\, vascular and general) ? Health risk assessments?cholesterol\, blood pressure and blood sugar screenings\; height\, weight and body mass index (BMI) measurements ? Blood typing ? Smoking cessation and asthma education ? Fitness\, ergonomics and fall prevention awareness ? Bike safety demonstrations and sun safety information ? Ask a physician\, pediatrician or pharmacist ? Dental checks\, teeth cleanings and whitening trays Health-related community groups will provide information about their services\, there will be entertainment for kids\, and prizes\, such as Fitbits\, certificates for massages and personal training sessions\, will be awarded throughout the fair. Joining Baker College to present this fair are the Auburn Hills Chamber of Commerce\, Beaumont Wellness Coalition\, Common Ground and Clarkston Internal Medicine. For more information\, contact Nicole Chirco in the Baker College of Auburn Hills admissions office at nicole.chirco@baker.edu or 248.340.0600\, or visit www.baker.edu.
X-ALT-DESC;FMTTYPE=text/html:This free event is open to the public with something for people of all ages. There will be health screenings\, health education and demonstrations\, and attendees can get a close-up look at Beaumont Hospital?s ambulance and emergency helicopter! More than 200 students in Baker College?s health sciences programs\, joined by health care professionals and others in health-related fields\, will offer the following\, which are all FREE: ? Ultrasound screenings (cardiac\, vascular and general) ? Health risk assessments?cholesterol\, blood pressure and blood sugar screenings\; height\, weight and body mass index (BMI) measurements ? Blood typing ? Smoking cessation and asthma education ? Fitness\, ergonomics and fall prevention awareness ? Bike safety demonstrations and sun safety information ? Ask a physician\, pediatrician or pharmacist ? Dental checks\, teeth cleanings and whitening trays Health-related community groups will provide information about their services\, there will be entertainment for kids\, and prizes\, such as Fitbits\, certificates for massages and personal training sessions\, will be awarded throughout the fair. Joining Baker College to present this fair are the Auburn Hills Chamber of Commerce\, Beaumont Wellness Coalition\, Common Ground and Clarkston Internal Medicine. For more information\, contact Nicole Chirco in the Baker College of Auburn Hills admissions office at nicole.chirco@baker.edu or 248.340.0600\, or visit www.baker.edu.
LOCATION:Baker College of Auburn Hills\, 1500 University Drive\, Auburn Hills
UID:e.1571.2327
SEQUENCE:3
DTSTAMP:20260425T105418Z
URL:https://business.auburnhillschamber.com/events/details/baker-college-health-education-fair-05-26-2015-2327
END:VEVENT

END:VCALENDAR
