BEGIN:VCALENDAR
VERSION:2.0
PRODID:-//ChamberMaster//Event Calendar 2.0//EN
METHOD:PUBLISH
X-PUBLISHED-TTL:P3D
REFRESH-INTERVAL:P3D
CALSCALE:GREGORIAN
BEGIN:VEVENT
DTSTART:20150424T130000Z
DTEND:20150424T140000Z
X-MICROSOFT-CDO-ALLDAYEVENT:FALSE
SUMMARY:Beaumont Community Health Coalition Meeting (April)
DESCRIPTION:This group spreads health awareness to the local community\, identifying and filling needed wellness gaps in the Auburn Hills area.
X-ALT-DESC;FMTTYPE=text/html:<span style="line-height: 20.7999992370605px\;">This group spreads health awareness to the local community\, identifying and filling needed wellness gaps in the Auburn Hills area.</span>
LOCATION:City of Auburn Hills Community Center 1827 N. Squirrel Road Auburn Hills\, MI 48326
UID:e.1571.1218
SEQUENCE:3
DTSTAMP:20260425T124101Z
URL:https://business.auburnhillschamber.com/events/details/beaumont-community-health-coalition-meeting-april-04-24-2015-1218
END:VEVENT

END:VCALENDAR
