BEGIN:VCALENDAR
VERSION:2.0
PRODID:-//ChamberMaster//Event Calendar 2.0//EN
METHOD:PUBLISH
X-PUBLISHED-TTL:P3D
REFRESH-INTERVAL:P3D
CALSCALE:GREGORIAN
BEGIN:VEVENT
DTSTART:20150220T140000Z
DTEND:20150220T150000Z
X-MICROSOFT-CDO-ALLDAYEVENT:FALSE
SUMMARY:Beaumont Community Health Coalition Meeting (February)
DESCRIPTION:This group spreads health awareness to the local community\, identifying and filling needed wellness gaps in the Auburn Hills area.
X-ALT-DESC;FMTTYPE=text/html:This group spreads health awareness to the local community\, identifying and filling needed wellness gaps in the Auburn Hills area.
LOCATION:Auburn Hills Chamber 3395A Auburn Road Auburn Hills\, MI 48326
UID:e.1571.1216
SEQUENCE:3
DTSTAMP:20260426T003938Z
URL:https://business.auburnhillschamber.com/events/details/beaumont-community-health-coalition-meeting-february-02-20-2015-1216
END:VEVENT

END:VCALENDAR
