BEGIN:VCALENDAR
VERSION:2.0
PRODID:-//ChamberMaster//Event Calendar 2.0//EN
METHOD:PUBLISH
X-PUBLISHED-TTL:P3D
REFRESH-INTERVAL:P3D
CALSCALE:GREGORIAN
BEGIN:VEVENT
DTSTART:20180418T210000Z
DTEND:20180418T230000Z
X-MICROSOFT-CDO-ALLDAYEVENT:FALSE
SUMMARY:Beaumont\, Troy Forum on End-of-Life Care
DESCRIPTION:Join us at our upcoming forum where we'll be screening "Being Mortal\," a Frontline documentary exploring the relationships health care providers have with their patients nearing end of life and the challenges they face in caring for these individuals. A panel discussion will follow the film. Information booths will be set up in the Moceri Learning Center Lobby.\n\n\n\nParking will be available behind the Emergency Center on the northwest side of the hospital. Please RSVP to Steven Axe\, steven.axe@beaumont.org or 248-964-3405
X-ALT-DESC;FMTTYPE=text/html:Join us at our upcoming forum where we&#39\;ll be screening &quot\;Being Mortal\,&quot\; a Frontline documentary exploring the relationships health care providers have with their patients nearing end of life and the challenges they face in caring for these individuals. A panel discussion will follow the film. Information booths will be set up in the Moceri Learning Center Lobby.<br />\n<br />\nParking will be available behind the Emergency Center on the northwest side of the hospital. Please RSVP to Steven Axe\, <a href="mailto:steven.axe@beaumont.org">steven.axe@beaumont.org</a> or 248-964-3405
LOCATION:Moceri Learning Center\, Qazi Auditorium Beaumont Hospital\, Troy 44201 Dequindre Road Troy\, MI 48085
UID:e.1571.6040
SEQUENCE:3
DTSTAMP:20260422T024633Z
URL:https://business.auburnhillschamber.com/events/details/beaumont-troy-forum-on-end-of-life-care-6040
END:VEVENT

END:VCALENDAR
