BEGIN:VCALENDAR
VERSION:2.0
PRODID:-//ChamberMaster//Event Calendar 2.0//EN
METHOD:PUBLISH
X-PUBLISHED-TTL:P3D
REFRESH-INTERVAL:P3D
CALSCALE:GREGORIAN
BEGIN:VEVENT
DTSTART:20160412T220000Z
DTEND:20160413T020000Z
X-MICROSOFT-CDO-ALLDAYEVENT:FALSE
SUMMARY:Beer & Basketball at the Palace 2016
DESCRIPTION:Bring your friends\, family or colleagues to network with members from the Auburn Hills Chamber of Commerce as we watch the Detroit Pistons take on the Miami Heat at the Palace of Auburn Hills on Tuesday\, April 12th!\n\n \nAt this event\, guests will enjoy:\n\n\n	Admission to the Pistons game with a great view from the exclusive Club 300\n	Ten\, 2 oz. craft beer tastings\n	All-inclusive dinner buffet with Michigan-inspired flavors\n	Cash bar
X-ALT-DESC;FMTTYPE=text/html:<div><span style="font-size: 14px\;"><span style="font-family: arial\;">Bring your friends\, family or colleagues to network with members from the Auburn Hills Chamber of Commerce as we watch the Detroit Pistons take on the Miami Heat&nbsp\;at the Palace of Auburn Hills on Tuesday\, April 12th!</span></span><br />\n&nbsp\;</div>\n<span style="font-size: 14px\;"><span style="font-family: arial\;">At this event\, guests will enjoy:</span></span>\n\n<ul>\n	<li><span style="font-size: 12px\;"><span style="font-family: arial\;">Admission to the Pistons game with a great view from the exclusive Club 300</span></span></li>\n	<li><span style="font-size: 12px\;"><span style="font-family: arial\;">Ten\, 2 oz. craft beer tastings</span></span></li>\n	<li><span style="font-size: 12px\;"><span style="font-family: arial\;">All-inclusive dinner buffet with Michigan-inspired flavors</span></span></li>\n	<li><span style="font-size: 12px\;"><span style="font-family: arial\;">Cash bar</span></span></li>\n</ul>\n\n<div>&nbsp\; &nbsp\; &nbsp\; &nbsp\; &nbsp\; &nbsp\; &nbsp\; &nbsp\; &nbsp\; &nbsp\; &nbsp\; &nbsp\; &nbsp\; &nbsp\; &nbsp\; &nbsp\; &nbsp\; &nbsp\; &nbsp\; &nbsp\; &nbsp\; &nbsp\; &nbsp\; &nbsp\; &nbsp\; &nbsp\; &nbsp\; &nbsp\;&nbsp\;</div>\n
LOCATION:Palace of Auburn Hills Club 300 6 Championship Dr Auburn Hills\, MI 48326
UID:e.1571.3571
SEQUENCE:3
DTSTAMP:20260424T103845Z
URL:https://business.auburnhillschamber.com/events/details/beer-basketball-at-the-palace-2016-04-12-2016-3571
END:VEVENT

END:VCALENDAR
