BEGIN:VCALENDAR
VERSION:2.0
PRODID:-//ChamberMaster//Event Calendar 2.0//EN
METHOD:PUBLISH
X-PUBLISHED-TTL:P3D
REFRESH-INTERVAL:P3D
CALSCALE:GREGORIAN
BEGIN:VEVENT
DTSTART:20150220T163000Z
DTEND:20150220T180000Z
X-MICROSOFT-CDO-ALLDAYEVENT:FALSE
SUMMARY:Board of Directors Meeting (February)
DESCRIPTION:
X-ALT-DESC;FMTTYPE=text/html:
LOCATION:Baker College of Auburn Hills 1500 University Drive Auburn Hills\, MI 48326
UID:e.1571.1252
SEQUENCE:3
DTSTAMP:20260425T233146Z
URL:https://business.auburnhillschamber.com/events/details/board-of-directors-meeting-february-02-20-2015-1252
END:VEVENT

END:VCALENDAR
