BEGIN:VCALENDAR
VERSION:2.0
PRODID:-//ChamberMaster//Event Calendar 2.0//EN
METHOD:PUBLISH
X-PUBLISHED-TTL:P3D
REFRESH-INTERVAL:P3D
CALSCALE:GREGORIAN
BEGIN:VEVENT
DTSTART:20150319T153000Z
DTEND:20150319T170000Z
X-MICROSOFT-CDO-ALLDAYEVENT:FALSE
SUMMARY:Board of Directors Meeting (March)
DESCRIPTION:
X-ALT-DESC;FMTTYPE=text/html:
LOCATION:City of Auburn Hills 1827 N. Squirrel Road Auburn Hills\, MI 48326
UID:e.1571.1253
SEQUENCE:3
DTSTAMP:20260425T204111Z
URL:https://business.auburnhillschamber.com/events/details/board-of-directors-meeting-march-03-19-2015-1253
END:VEVENT

END:VCALENDAR
