BEGIN:VCALENDAR
VERSION:2.0
PRODID:-//ChamberMaster//Event Calendar 2.0//EN
METHOD:PUBLISH
X-PUBLISHED-TTL:P3D
REFRESH-INTERVAL:P3D
CALSCALE:GREGORIAN
BEGIN:VEVENT
DTSTART:20141123T180000Z
DTEND:20141123T190000Z
X-MICROSOFT-CDO-ALLDAYEVENT:FALSE
SUMMARY:Book Signing and Artist Demo with Mark Crilley
DESCRIPTION:Famed Artist and Author Mark Crilley will be stopping by 2nd & Charles Auburn Hills to do a drawing demonstration and book signing for Mastering Manga and Mastering Manga 2.
X-ALT-DESC;FMTTYPE=text/html:Famed Artist and Author Mark Crilley will be stopping by 2nd &amp\; Charles Auburn Hills to do a drawing demonstration and book signing for Mastering Manga and Mastering Manga 2.
LOCATION:3924 Baldwin Auburn Hills\, Mi 48326
UID:e.1571.1404
SEQUENCE:3
DTSTAMP:20260426T035435Z
URL:https://business.auburnhillschamber.com/events/details/book-signing-and-artist-demo-with-mark-crilley-11-23-2014-1404
END:VEVENT

END:VCALENDAR
