BEGIN:VCALENDAR
VERSION:2.0
PRODID:-//ChamberMaster//Event Calendar 2.0//EN
METHOD:PUBLISH
X-PUBLISHED-TTL:P3D
REFRESH-INTERVAL:P3D
CALSCALE:GREGORIAN
BEGIN:VEVENT
DTSTART:20150223T160000Z
DTEND:20150223T180000Z
X-MICROSOFT-CDO-ALLDAYEVENT:FALSE
SUMMARY:CEO Insights with Rush Trucking
DESCRIPTION:Founder and chairperson of the Rush Group family of companies\, Andra Rush will guide women in professional leadership on how to achieve and maintain success within their companies.  As a dynamic speaker and self-starter\, Ms. Rush will share how she has overcome challenges and thrives as a woman in two male-dominated industries including Freight Transportation and Automotive Manufacturing. Her success is attributed to challenging conventional wisdom and adopting new ways of thinking to accomplish and surpass goals.  She also strongly believes in giving back to help local communities prosper and improving quality of life for everyone.\n\n\n\nJoin us to learn from one of our region's leading entrepreneurs. This program is offered by the Chamber's Women's Alliance\, and is one of three women-centered events offered annually.  Table sponsorships are available.  Bring your questions!
X-ALT-DESC;FMTTYPE=text/html:<span style="font-size:14px\;"><span style="font-family: arial\;">Founder and chairperson of the Rush Group family of companies\, Andra Rush will guide women in professional leadership on how to achieve and maintain success within their companies. &nbsp\;As a dynamic speaker and self-starter\, Ms. Rush will share how she has overcome challenges and thrives as a woman in two male-dominated industries including Freight Transportation and Automotive Manufacturing. Her success is attributed to challenging conventional wisdom and adopting new ways of thinking to accomplish and surpass goals. &nbsp\;She also strongly believes in giving back to help local communities prosper and improving quality of life for everyone.<br />\n<br />\nJoin us to learn from one of our region&#39\;s leading entrepreneurs. This program is offered by the Chamber&rsquo\;s Women&rsquo\;s Alliance\, and is one of three women-centered events offered annually.&nbsp\; Table sponsorships are available.&nbsp\; Bring your questions!</span></span>
LOCATION:Auburn Hills Marriott Pontiac at Centerpoint 3600 Centerpoint Parkway Pontiac\, MI 48341
UID:e.1571.1407
SEQUENCE:3
DTSTAMP:20260426T003607Z
URL:https://business.auburnhillschamber.com/events/details/ceo-insights-with-rush-trucking-02-23-2015-1407
END:VEVENT

END:VCALENDAR
