BEGIN:VCALENDAR
VERSION:2.0
PRODID:-//ChamberMaster//Event Calendar 2.0//EN
METHOD:PUBLISH
X-PUBLISHED-TTL:P3D
REFRESH-INTERVAL:P3D
CALSCALE:GREGORIAN
BEGIN:VEVENT
DTSTART:20151205T000000Z
DTEND:20151205T030000Z
X-MICROSOFT-CDO-ALLDAYEVENT:FALSE
SUMMARY:Cheers Gala - Benefiting Easter Seals Michigan
DESCRIPTION:When: Friday\, December 4\, 2015\n\nWhere: Sellers Bowman Auto Center\, Clarkston\, MI\n\nWhat: Festive Holiday Cheer\, Cocktails and an Exquisite Strolling Dinner\, Live Entertainment\, Casino Games\n\nHow: To purchase a table\, tickets\, or for more information\, please call Jennifer at 248-475-6412\n\n\n\nEaster Seals Michigan serves and supports people with disabilities or special needs and their families so they can successfully live\, learn\, work and play in their communities
X-ALT-DESC;FMTTYPE=text/html:When: Friday\, December 4\, 2015<br />\nWhere: Sellers Bowman Auto Center\, Clarkston\, MI<br />\nWhat: Festive Holiday Cheer\,&nbsp\;Cocktails and an Exquisite Strolling Dinner\,&nbsp\;Live Entertainment\,&nbsp\;Casino Games<br />\nHow: To purchase a table\, tickets\, or for more information\, please call Jennifer at 248-475-6412<br />\n<br />\nEaster Seals Michigan serves and supports people with disabilities or special needs and their families so they can successfully live\, learn\, work and play in their communities
LOCATION:Sellers Bowman Auto Center - 9603 Dixie Hwy\, Village of Clarkston\, MI 48348
UID:e.1571.3576
SEQUENCE:3
DTSTAMP:20260424T193025Z
URL:https://business.auburnhillschamber.com/events/details/cheers-gala-benefiting-easter-seals-michigan-12-04-2015-3576
END:VEVENT

END:VCALENDAR
