BEGIN:VCALENDAR
VERSION:2.0
PRODID:-//ChamberMaster//Event Calendar 2.0//EN
METHOD:PUBLISH
X-PUBLISHED-TTL:P3D
REFRESH-INTERVAL:P3D
CALSCALE:GREGORIAN
BEGIN:VEVENT
DTSTART:20170226T210000Z
DTEND:20170227T010000Z
X-MICROSOFT-CDO-ALLDAYEVENT:FALSE
SUMMARY:Chipotle Fundraiser for Neighborhood House
DESCRIPTION:Come into the Chipotle at 84 N Adams Road (The Village of Rochester Hills) for dinner on Sunday\, February 26th between 4pm and 8pm. Present the flyer photo printed or on your cell phone\, or just tell the cashier you are there to support Neighborhood House and 50% of proceeds will be donated to support our mission. Your participation will help us to continue to serve thousands of neighbors in financial crisis\, bringing them to self-sustainability\, right here in our community!
X-ALT-DESC;FMTTYPE=text/html:Come into the Chipotle at 84 N Adams Road (The Village of Rochester Hills) for dinner on Sunday\, February 26th between 4pm and 8pm. Present the flyer photo printed or on your cell phone\, or just tell the cashier you are there to support Neighborhood House and 50% of proceeds will be donated to support our mission. Your participation will help us to continue to serve thousands of neighbors in financial crisis\, bringing them to self-sustainability\, right here in our community!
LOCATION:Chipotle 84 North Adams Road The Village of Rochester Hills
UID:e.1571.4190
SEQUENCE:3
DTSTAMP:20260423T162300Z
URL:https://business.auburnhillschamber.com/events/details/chipotle-fundraiser-for-neighborhood-house-4190
END:VEVENT

END:VCALENDAR
