BEGIN:VCALENDAR
VERSION:2.0
PRODID:-//ChamberMaster//Event Calendar 2.0//EN
METHOD:PUBLISH
X-PUBLISHED-TTL:P3D
REFRESH-INTERVAL:P3D
CALSCALE:GREGORIAN
BEGIN:VEVENT
DTSTART:20151203T140000Z
DTEND:20151203T150000Z
X-MICROSOFT-CDO-ALLDAYEVENT:FALSE
SUMMARY:Community Council Meeting (December)
DESCRIPTION:The Auburn Hills' Community Council includes more than 20 non-profit and civic programs and organizations. These members meet quarterly to discuss shared goals and priorities.
X-ALT-DESC;FMTTYPE=text/html:The Auburn Hills&#39\; Community Council includes more than 20 non-profit and civic programs and organizations. These members meet quarterly to discuss shared goals and priorities.
LOCATION:Auburn Hills Chamber 3395 A Auburn Road Auburn Hills\, MI 48326
UID:e.1571.1250
SEQUENCE:3
DTSTAMP:20260424T192956Z
URL:https://business.auburnhillschamber.com/events/details/community-council-meeting-december-12-03-2015-1250
END:VEVENT

END:VCALENDAR
