BEGIN:VCALENDAR
VERSION:2.0
PRODID:-//ChamberMaster//Event Calendar 2.0//EN
METHOD:PUBLISH
X-PUBLISHED-TTL:P3D
REFRESH-INTERVAL:P3D
CALSCALE:GREGORIAN
BEGIN:VEVENT
DTSTART:20150324T120000Z
DTEND:20150324T133000Z
X-MICROSOFT-CDO-ALLDAYEVENT:FALSE
SUMMARY:Costco Coffee Connect
DESCRIPTION:Come Join us for a free 5 chamber networking event on Tuesday\, March 24\, 8:00 - 9:30 am at the Auburn Hills Costco. \n\n\n\nBe the "best friend" ever and bring a friend for a new Costco membership and you both get a cash card!\n\n\n\nCall your local Costco representative for details 248.648.0020\n\n\n\nBring lots of business cards!\n\n\n\nComplimentary continental breakfast provided.
X-ALT-DESC;FMTTYPE=text/html:Come Join us for a free 5 chamber networking event on Tuesday\, March 24\, 8:00 - 9:30 am at the Auburn Hills Costco.&nbsp\;<br />\n<br />\nBe the &quot\;best friend&quot\; ever and bring a friend for a new Costco membership and you both get a cash card!<br />\n<br />\nCall your local Costco representative for details 248.648.0020<br />\n<br />\nBring lots of business cards!<br />\n<br />\nComplimentary continental breakfast provided.
LOCATION:Costco Wholesale 400 Brown Rd Auburn Hills\, MI
UID:e.1571.1699
SEQUENCE:3
DTSTAMP:20260425T233342Z
URL:https://business.auburnhillschamber.com/events/details/costco-coffee-connect-03-24-2015-1699
END:VEVENT

END:VCALENDAR
