BEGIN:VCALENDAR
VERSION:2.0
PRODID:-//ChamberMaster//Event Calendar 2.0//EN
METHOD:PUBLISH
X-PUBLISHED-TTL:P3D
REFRESH-INTERVAL:P3D
CALSCALE:GREGORIAN
BEGIN:VEVENT
DTSTART:20170329T120000Z
DTEND:20170329T140000Z
X-MICROSOFT-CDO-ALLDAYEVENT:FALSE
SUMMARY:Costco Coffee Connect
DESCRIPTION:It's time for Costco Coffee Connect  5 Chamber Networking!\n\nWho will you meet today?\n\n\n\nAuburn Hills Chamber\n\nClarkston Chamber\n\nOrion Area Chamber\n\nRochester Regional Chamber\n\nWaterford Chamber
X-ALT-DESC;FMTTYPE=text/html:<p>It&#39\;s time for Costco Coffee Connect&nbsp\; 5 Chamber Networking!<br />\nWho will you meet today?<br />\n<br />\n<strong>Auburn Hills Chamber<br />\nClarkston Chamber<br />\nOrion Area Chamber<br />\nRochester Regional Chamber<br />\nWaterford Chamber</strong></p>\n
LOCATION:400 Brown Rd. Auburn Hills\, MI 48326
UID:e.1571.4632
SEQUENCE:3
DTSTAMP:20260423T095936Z
URL:https://business.auburnhillschamber.com/events/details/costco-coffee-connect-03-29-2017-4632
END:VEVENT

END:VCALENDAR
