BEGIN:VCALENDAR
VERSION:2.0
PRODID:-//ChamberMaster//Event Calendar 2.0//EN
METHOD:PUBLISH
X-PUBLISHED-TTL:P3D
REFRESH-INTERVAL:P3D
CALSCALE:GREGORIAN
BEGIN:VEVENT
DTSTART:20161018T120000Z
DTEND:20161018T140000Z
X-MICROSOFT-CDO-ALLDAYEVENT:FALSE
SUMMARY:Costco Coffee Connect
DESCRIPTION:Free networking event at the Auburn Hills Costco. Bring lots of business cards and meet some awesome people!
X-ALT-DESC;FMTTYPE=text/html:Free networking event at the Auburn Hills Costco. Bring lots of business cards and meet some awesome people!
LOCATION:400 Brown Rd. Auburn Hills\, Mi. 48326
UID:e.1571.3951
SEQUENCE:3
DTSTAMP:20260423T235058Z
URL:https://business.auburnhillschamber.com/events/details/costco-coffee-connect-3951
END:VEVENT

END:VCALENDAR
