BEGIN:VCALENDAR
VERSION:2.0
PRODID:-//ChamberMaster//Event Calendar 2.0//EN
METHOD:PUBLISH
X-PUBLISHED-TTL:P3D
REFRESH-INTERVAL:P3D
CALSCALE:GREGORIAN
BEGIN:VEVENT
DTSTART:20150209T170000Z
DTEND:20150209T183000Z
X-MICROSOFT-CDO-ALLDAYEVENT:FALSE
SUMMARY:Crime Prevention Seminar
DESCRIPTION:Each year\, many seniors fall victim to crime\, injury and illness. To help keep older adults safe and out of harm's way\, Pixley Funeral Home is hosting a free seminar at the Auburn Hills Community Center on February 9th at 12:00pm.  The program is designed to empower older adults by discussing how simple strategies and techniques can be used to increase personal safety.  This presentation is a component of the Dignity Memorial Smart and Safe Living  program\, which is designed to provide older adults with information on how to effectively protect themselves and their loved ones so they can lead safe\, active and productive lives for years to come. Since the program's creation in 1996\, thousands of seniors throughout the U.S. and Canada have attended free\, informative presentations on topics such as heat safety\, identity theft\, and fire and burn safety.  This particular event will focus on preventing home invasion and cons & scams and will include a light lunch.  For additional information or to register\, please contact the Auburn Hills Community Center at 248-370-9400.
X-ALT-DESC;FMTTYPE=text/html:<span style="font-size:9pt"><span style="font-family:arial\,sans-serif"><span style="color:rgb(51\, 51\, 51)">Each year\, many seniors fall victim to crime\, injury and illness. To help keep older adults safe and out of harm&rsquo\;s way\, Pixley Funeral Home is hosting a free seminar at the Auburn Hills Community Center on February 9th at 12:00pm.&nbsp\; The program is designed to empower older adults by discussing how simple strategies and techniques can be used to increase personal safety.&nbsp\; This presentation is a component of the Dignity Memorial Smart and Safe Living&reg\; program\, which is designed to provide older adults with information on how to effectively protect themselves and their loved ones so they can lead safe\, active and productive lives for years to come. Since the program&rsquo\;s creation in 1996\, thousands of seniors throughout the U.S. and Canada have attended free\, informative presentations on topics such as heat safety\, identity theft\, and fire and burn safety.&nbsp\; This particular event will focus on preventing home invasion and cons &amp\; scams and will include a light lunch. &nbsp\;For additional information or to register\, please contact the Auburn Hills Community Center at 248-370-9400.</span></span></span><br />\n&nbsp\;<br />\n&nbsp\;
LOCATION:Auburn Hills Community Center 1827 N Squirrel Rd. Auburn Hills\, MI 48326
UID:e.1571.1550
SEQUENCE:3
DTSTAMP:20260425T232912Z
URL:https://business.auburnhillschamber.com/events/details/crime-prevention-seminar-02-09-2015-1550
END:VEVENT

END:VCALENDAR
