BEGIN:VCALENDAR
VERSION:2.0
PRODID:-//ChamberMaster//Event Calendar 2.0//EN
METHOD:PUBLISH
X-PUBLISHED-TTL:P3D
REFRESH-INTERVAL:P3D
CALSCALE:GREGORIAN
BEGIN:VEVENT
DTSTART:20150624T210000Z
DTEND:20150624T233000Z
X-MICROSOFT-CDO-ALLDAYEVENT:FALSE
SUMMARY:DeVos Graduate School Open House
DESCRIPTION:Featuring the General Motors and Motor Vehicle Aftermarket Executive MBAs Join current DeVos students\, faculty\, and staff for hors d?oeuvres and beverages. Enjoy a tour of our facility\, receive program information\, and an interactive panel discussion. Please feel free to bring a guest. This is a FREE event but registration is required.
X-ALT-DESC;FMTTYPE=text/html:Featuring the General Motors and Motor Vehicle Aftermarket Executive MBAs Join current DeVos students\, faculty\, and staff for hors d?oeuvres and beverages. Enjoy a tour of our facility\, receive program information\, and an interactive panel discussion. Please feel free to bring a guest. This is a FREE event but registration is required.
LOCATION:1500 West Big Beaver Suite 103\, Troy MI 48084
UID:e.1571.2342
SEQUENCE:3
DTSTAMP:20260425T104127Z
URL:https://business.auburnhillschamber.com/events/details/devos-graduate-school-open-house-06-24-2015-2342
END:VEVENT

END:VCALENDAR
