BEGIN:VCALENDAR
VERSION:2.0
PRODID:-//ChamberMaster//Event Calendar 2.0//EN
METHOD:PUBLISH
X-PUBLISHED-TTL:P3D
REFRESH-INTERVAL:P3D
CALSCALE:GREGORIAN
BEGIN:VEVENT
DTSTART:20160815T123000Z
DTEND:20160815T143000Z
X-MICROSOFT-CDO-ALLDAYEVENT:FALSE
SUMMARY:Digital Marketing Series Part II
DESCRIPTION:The Digital Marketing Series offers seminars designed to build your business through the synergy created by the digital revolution.  The combination of traditional media\, email marketing\, online advertising\, and social media can be a powerful tool to move your business ahead of the competition.  This three part series will offer education\, referrals and networking. \n\n\n\nTopics:\n\nJuly 25: Search Engine Optimization & Analytics \n\nwith Antoine Dubeauclard\, Media Genesis\n\n\n\nAugust 15: Social Media in the Media Mix\n\nwith Michelle Mills\, The Oakland Press\n\n\n\nSeptember 12: Creating Hot Content\n\nwith Kim Schott\, Constant Contact
X-ALT-DESC;FMTTYPE=text/html:The Digital Marketing Series offers seminars designed to build your business through the synergy created by the digital revolution. &nbsp\;The combination of traditional media\, email marketing\, online advertising\, and social media can be a powerful tool to move your business ahead of the competition. &nbsp\;This three part series will offer education\, referrals and networking.&nbsp\;<br>\n<br>\n<strong style="line-height: 20.8px\;"><u>Topics:</u></strong><br style="line-height: 20.8px\;">\n<span style="font-size: 10pt\; font-family: Arial\, sans-serif\;">July 25:&nbsp\;<a alt="http://business.auburnhillschamber.com/events/details/digital-marketing-series-part-i-3566" href="http://r20.rs6.net/tn.jsp?t=zcsuqxxab.0.0.qskwv4dab.0&amp\;id=preview&amp\;r=3&amp\;p=http%3A%2F%2Fbusiness.auburnhillschamber.com%2Fevents%2Fdetails%2Fdigital-marketing-series-part-i-3566" linktype="1" shape="rect" target="_blank" track="on"><span style="color: rgb(51\, 51\, 51)\;">Search Engine Optimization &amp\; Analytics&nbsp\;</span></a><br>\nwith Antoine&nbsp\;Dubeauclard\, Media Genesis<br>\n<br>\nAugust 15:&nbsp\;<a alt="http://business.auburnhillschamber.com/events/details/digital-marketing-series-part-ii-3567" href="http://r20.rs6.net/tn.jsp?t=zcsuqxxab.0.0.qskwv4dab.0&amp\;id=preview&amp\;r=3&amp\;p=http%3A%2F%2Fbusiness.auburnhillschamber.com%2Fevents%2Fdetails%2Fdigital-marketing-series-part-ii-3567" linktype="1" shape="rect" target="_blank" track="on"><span style="color: rgb(51\, 51\, 51)\;">Social Media in the Media Mix</span></a><br>\nwith Michelle Mills\, The Oakland Press<br>\n<br>\nSeptember 12:&nbsp\;<a alt="http://business.auburnhillschamber.com/events/details/digital-marketing-series-part-iii-3568" href="http://r20.rs6.net/tn.jsp?t=zcsuqxxab.0.0.qskwv4dab.0&amp\;id=preview&amp\;r=3&amp\;p=http%3A%2F%2Fbusiness.auburnhillschamber.com%2Fevents%2Fdetails%2Fdigital-marketing-series-part-iii-3568" linktype="1" shape="rect" target="_blank" track="on"><span style="color: rgb(51\, 51\, 51)\;">Creating Hot Content</span></a><br>\nwith Kim&nbsp\;Schott\, Constant Contact</span>
LOCATION:University Center 3350 Auburn Rd Auburn Hills\, MI 48326
UID:e.1571.3567
SEQUENCE:3
DTSTAMP:20260424T030450Z
URL:https://business.auburnhillschamber.com/events/details/digital-marketing-series-part-ii-08-15-2016-3567
END:VEVENT

END:VCALENDAR
