BEGIN:VCALENDAR
VERSION:2.0
PRODID:-//ChamberMaster//Event Calendar 2.0//EN
METHOD:PUBLISH
X-PUBLISHED-TTL:P3D
REFRESH-INTERVAL:P3D
CALSCALE:GREGORIAN
BEGIN:VEVENT
DTSTART:20161017T123000Z
DTEND:20161017T143000Z
X-MICROSOFT-CDO-ALLDAYEVENT:FALSE
SUMMARY:Digital Marketing Series Part IV
DESCRIPTION:Building An Effective Marketing Strategy\n\n\n\nWe are wrapping up our Digital Marketing Series with SaveOn's one hour marketing workshop to help you put it all together and "Build An Effective Marketing Strategy"\n\n\n	They will help you analyze your current strategy\n	Guide you to resources to create and expand your marketing presence\n	Give you tips and tricks to do some things yourself\n	For attending\, SaveOn.com will market your business online at NO charge for 6 months (No strings!)\n\n\n\nThe Digital Marketing Series offers seminars designed to build your business through the synergy created by the digital revolution.  The combination of traditional media\, email marketing\, online advertising\, and social media can be a powerful tool to move your business ahead of the competition.  This four part series will offer education\, referrals and networking.
X-ALT-DESC;FMTTYPE=text/html:<span style="font-size:12px\;"><span style="font-family: arial\;"><span style="font-size:16px\;"><strong><span style="letter-spacing: -0.05pt\; border: 1pt none windowtext\; padding: 0in\;"><span style="color: rgb(59\, 64\, 69)\;">Building An Effective Marketing Strategy</span></span></strong></span><br />\n<br />\nWe are wrapping up our Digital&nbsp\;Marketing Series&nbsp\;with&nbsp\;SaveOn&#39\;s one hour marketing workshop to help you put it all together and &quot\;Build An Effective Marketing Strategy&quot\;</span></span>\n\n<ul>\n	<li><span style="font-size:12px\;"><span style="font-family: arial\;">They will help you analyze your current strategy</span></span></li>\n	<li><span style="font-size:12px\;"><span style="font-family: arial\;">Guide you to resources to create and expand your marketing presence</span></span></li>\n	<li><span style="font-size:12px\;"><span style="font-family: arial\;">Give you tips and tricks to do some things yourself</span></span></li>\n	<li><span style="font-size:12px\;"><span style="font-family: arial\;">For attending\,&nbsp\;<a href="http://saveon.com/"><span style="color: purple\;">SaveOn.com&nbsp\;</span></a>will market your business online at NO charge for 6 months (No strings!)</span></span></li>\n</ul>\n<br />\n<span style="font-size:12px\;"><span style="font-family: arial\;">The Digital Marketing Series offers seminars designed to build your business through the synergy created by the digital revolution. &nbsp\;The combination of traditional media\, email marketing\, online advertising\, and social media can be a powerful tool to move your business ahead of the competition. &nbsp\;This four part series will offer education\, referrals and networking.&nbsp\;</span></span><br />\n&nbsp\;
LOCATION:University Center 3350 Auburn Rd Auburn Hills\, MI 48326
UID:e.1571.3953
SEQUENCE:3
DTSTAMP:20260423T233750Z
URL:https://business.auburnhillschamber.com/events/details/digital-marketing-series-part-iv-3953
END:VEVENT

END:VCALENDAR
