BEGIN:VCALENDAR
VERSION:2.0
PRODID:-//ChamberMaster//Event Calendar 2.0//EN
METHOD:PUBLISH
X-PUBLISHED-TTL:P3D
REFRESH-INTERVAL:P3D
CALSCALE:GREGORIAN
BEGIN:VEVENT
DTSTART:20161211T220000Z
DTEND:20161212T000000Z
X-MICROSOFT-CDO-ALLDAYEVENT:FALSE
SUMMARY:Dinner with Santa
DESCRIPTION:Please join us for our very first\, Dinner with Santa\, December 11\, 2016 at 5pm at the Pine Knob Carriage House. We are thrilled to offer an abundant and sophisticated menu\; a spread of decadent dinner options sure to satisfy any pallet.
X-ALT-DESC;FMTTYPE=text/html:<span style="font-family:tahoma\,serif\; font-size:17.3333px">Please join us for our very first\, Dinner with Santa\, December 11\, 2016 at 5pm at the Pine Knob Carriage House. We are thrilled to offer an abundant and sophisticated menu\; a spread of decadent dinner options sure to satisfy any pallet.</span>
LOCATION:Carriage House at Pine Knob 5580 Waldon Rd. Clarkston\, MI 48348
UID:e.1571.3962
SEQUENCE:3
DTSTAMP:20260423T200810Z
URL:https://business.auburnhillschamber.com/events/details/dinner-with-santa-3962
END:VEVENT

END:VCALENDAR
