BEGIN:VCALENDAR
VERSION:2.0
PRODID:-//ChamberMaster//Event Calendar 2.0//EN
METHOD:PUBLISH
X-PUBLISHED-TTL:P3D
REFRESH-INTERVAL:P3D
CALSCALE:GREGORIAN
BEGIN:VEVENT
DTSTART:20160521T160000Z
DTEND:20160521T190000Z
X-MICROSOFT-CDO-ALLDAYEVENT:FALSE
SUMMARY:Domino's Pizza Ribbon Cutting & Open House
DESCRIPTION:Come join us on Saturday\, May 21 for our Grand Opening Ribbon Cutting and Open House!  This is a  family event\, so please enjoy face painting\, a bounce house\, Domino's pizza and beverages. We're excited to see you there!
X-ALT-DESC;FMTTYPE=text/html:Come join us on&nbsp\;Saturday\, May 21&nbsp\;for our Grand Opening Ribbon Cutting and Open House!&nbsp\; This is a&nbsp\; family event\, so please enjoy face painting\, a bounce house\, Domino&#39\;s pizza and beverages. We&#39\;re excited to see you there!&#8203\;
LOCATION:Domino's Pizza 2795 University Dr. Auburn Hills\, MI 48326
UID:e.1571.3707
SEQUENCE:3
DTSTAMP:20260424T103728Z
URL:https://business.auburnhillschamber.com/events/details/domino-s-pizza-ribbon-cutting-open-house-05-21-2016-3707
END:VEVENT

END:VCALENDAR
