BEGIN:VCALENDAR
VERSION:2.0
PRODID:-//ChamberMaster//Event Calendar 2.0//EN
METHOD:PUBLISH
X-PUBLISHED-TTL:P3D
REFRESH-INTERVAL:P3D
CALSCALE:GREGORIAN
BEGIN:VEVENT
DTSTART:20150324T210000Z
DTEND:20150325T013000Z
X-MICROSOFT-CDO-ALLDAYEVENT:FALSE
SUMMARY:Elite Swing into Spring Event
DESCRIPTION:CORE Partners is sponsoring the Elite Swing into Spring event at On the Dunes Sports Bar & Grill. Live Social Media Networking Campaign with the following:\n\n\n\nHappy Hour: 5:00pm\n\nRed Carpet & Registration: 5:30pm\n\nSponsor Presentation: 6:00pm\n\nNetworking Social and Sponsored Food & Cocktail Hour: 6:30pm\n\nOpen Golf Simulators w/ PGA Golf Pro Doug White: 7:30-9:30pm\n\nFun Factor: Regulation Ping Pong & Corn Hole: 7:30pm-Close
X-ALT-DESC;FMTTYPE=text/html:CORE Partners is sponsoring the Elite Swing into Spring event at <a href="http://www.onthedunessports.com/">On the Dunes Sports Bar &amp\; Grill</a>. Live Social Media Networking Campaign with the following:<br />\n<br />\nHappy Hour: 5:00pm<br />\nRed Carpet &amp\; Registration: 5:30pm<br />\nSponsor Presentation: 6:00pm<br />\nNetworking Social and Sponsored Food &amp\; Cocktail Hour: 6:30pm<br />\nOpen Golf Simulators w/ PGA Golf Pro Doug White: 7:30-9:30pm<br />\nFun Factor: Regulation Ping Pong &amp\; Corn Hole: 7:30pm-Close&nbsp\;
LOCATION:On The Dunes Sports Bar & Grill 2055 Haggerty Rd. Commerce Twp.\, MI 48390
UID:e.1571.2301
SEQUENCE:3
DTSTAMP:20260425T221013Z
URL:https://business.auburnhillschamber.com/events/details/elite-swing-into-spring-event-03-24-2015-2301
END:VEVENT

END:VCALENDAR
