BEGIN:VCALENDAR
VERSION:2.0
PRODID:-//ChamberMaster//Event Calendar 2.0//EN
METHOD:PUBLISH
X-PUBLISHED-TTL:P3D
REFRESH-INTERVAL:P3D
CALSCALE:GREGORIAN
BEGIN:VEVENT
DTSTART:20150323T220000Z
DTEND:20150324T000000Z
X-MICROSOFT-CDO-ALLDAYEVENT:FALSE
SUMMARY:Excellence in Education
DESCRIPTION:The Excellence in Education Program was developed in keeping with the mission of the Auburn Hills Chamber of Commerce. Designed to promote the link between business\, education\, and the community\, the program recognizes excellence in both students and teachers within Auburn Hills. Sponsors are welcome for this youth development event. Contact the Chamber for details: 248.853.7862.
X-ALT-DESC;FMTTYPE=text/html:<span style="font-size:14px\;"><span style="font-family: arial\;"><span style="line-height: 20.8px\;">The Excellence in Education Program was developed in keeping with the mission of the Auburn Hills Chamber of Commerce. Designed to promote the link between business\, education\, and the community\, the program recognizes excellence in both students and teachers within Auburn Hills.</span> Sponsors are welcome for this youth development event. Contact the Chamber for details: 248.853.7862.</span></span>
LOCATION:Palace of Auburn Hills 6 Championship Drive Auburn Hills\, MI 48326
UID:e.1571.1199
SEQUENCE:3
DTSTAMP:20260425T205758Z
URL:https://business.auburnhillschamber.com/events/details/excellence-in-education-03-23-2015-1199
END:VEVENT

END:VCALENDAR
