BEGIN:VCALENDAR
VERSION:2.0
PRODID:-//ChamberMaster//Event Calendar 2.0//EN
METHOD:PUBLISH
X-PUBLISHED-TTL:P3D
REFRESH-INTERVAL:P3D
CALSCALE:GREGORIAN
BEGIN:VEVENT
DTSTART:20160314T220000Z
DTEND:20160315T000000Z
X-MICROSOFT-CDO-ALLDAYEVENT:FALSE
SUMMARY:Excellence in Education 2016
DESCRIPTION:The Excellence in Education Program was developed in keeping with the mission of the Auburn Hills Chamber of Commerce. Designed to promote the link between business\, education\, and the community\, the program recognizes excellence in both students and teachers within Auburn Hills. Sponsors are welcome for this youth development event. Contact the Chamber for details: 248.853.7862.
X-ALT-DESC;FMTTYPE=text/html:<span style="font-size: 14px\;"><span style="font-family: arial\;"><span style="line-height: 20.8px\;">The Excellence in Education Program was developed in keeping with the mission of the Auburn Hills Chamber of Commerce. Designed to promote the link between business\, education\, and the community\, the program recognizes excellence in both students and teachers within Auburn Hills.</span> Sponsors are welcome for this youth development event. Contact the Chamber for details: 248.853.7862.</span></span>
LOCATION:Palace of Auburn Hills Chairman's Club 6 Championship Drive Auburn Hills\, MI 48326
UID:e.1571.3355
SEQUENCE:3
DTSTAMP:20260424T131543Z
URL:https://business.auburnhillschamber.com/events/details/excellence-in-education-2016-03-14-2016-3355
END:VEVENT

END:VCALENDAR
