BEGIN:VCALENDAR
VERSION:2.0
PRODID:-//ChamberMaster//Event Calendar 2.0//EN
METHOD:PUBLISH
X-PUBLISHED-TTL:P3D
REFRESH-INTERVAL:P3D
CALSCALE:GREGORIAN
BEGIN:VEVENT
DTSTART:20141120T210000Z
DTEND:20141120T223000Z
X-MICROSOFT-CDO-ALLDAYEVENT:FALSE
SUMMARY:Fuego Hookah Lounge Ribbon Cutting
DESCRIPTION:Please join us in a ribbon cutting celebration to welcome a new business\, Fuego Hookah Lounge\, to downtown Auburn Hills!
X-ALT-DESC;FMTTYPE=text/html:Please join us in a ribbon cutting celebration to welcome a new business\, Fuego Hookah Lounge\, to downtown Auburn Hills!
LOCATION:Fuego Hookah Lounge 3358 Auburn Road Auburn Hills\, MI 48326
UID:e.1571.1240
SEQUENCE:3
DTSTAMP:20260426T035255Z
URL:https://business.auburnhillschamber.com/events/details/fuego-hookah-lounge-ribbon-cutting-11-20-2014-1240
END:VEVENT

END:VCALENDAR
