BEGIN:VCALENDAR
VERSION:2.0
PRODID:-//ChamberMaster//Event Calendar 2.0//EN
METHOD:PUBLISH
X-PUBLISHED-TTL:P3D
REFRESH-INTERVAL:P3D
CALSCALE:GREGORIAN
BEGIN:VEVENT
DTSTART:20191006T110000Z
DTEND:20191006T170000Z
X-MICROSOFT-CDO-ALLDAYEVENT:FALSE
SUMMARY:Giddy Up Pup
DESCRIPTION:Grab Your Saddles and Leashes! Sellers Subaru presents the inaugural Michigan Humane Giddy Up Pup on Sunday\, September 22 at Detroit's historic Eastern Market! This is a rare opportunity for riders to bring their horses and walk along the city streets\, led by the Detroit Mounted Police. Don't have a horse? Then bring your dog! The full route is 5 miles and is an estimated two hour walk for horses and humans alike\, but we will have shorter courses to ensure a safe and enjoyable experience for all participants. Start or join a team or go solo with your best friend.
X-ALT-DESC;FMTTYPE=text/html:Grab Your Saddles and Leashes! Sellers Subaru presents the inaugural Michigan Humane Giddy Up Pup on Sunday\, September 22 at Detroit&#39\;s historic Eastern Market! This is a rare opportunity for riders to bring their horses and walk along the city streets\, led by the Detroit Mounted Police. Don&#39\;t have a horse? Then bring your dog! The full route is 5 miles and is an estimated two hour walk for horses and humans alike\, but we will have shorter courses to ensure a safe and enjoyable experience for all participants. Start or join a team or go solo with your best friend.
LOCATION:Eastern Market
UID:e.1571.10183
SEQUENCE:3
DTSTAMP:20260419T172443Z
URL:https://business.auburnhillschamber.com/events/details/giddy-up-pup-10183
END:VEVENT

END:VCALENDAR
