BEGIN:VCALENDAR
VERSION:2.0
PRODID:-//ChamberMaster//Event Calendar 2.0//EN
METHOD:PUBLISH
X-PUBLISHED-TTL:P3D
REFRESH-INTERVAL:P3D
CALSCALE:GREGORIAN
BEGIN:VEVENT
DTSTART:20150911T190000Z
DTEND:20150911T200000Z
X-MICROSOFT-CDO-ALLDAYEVENT:FALSE
SUMMARY:Golf Committee Meeting
DESCRIPTION:This committee plans the annual Auburn Hills Open\, Corporate Golf League\, and other golf events. If you enjoy golf and working on a team\, this is a great serving opportunity.
X-ALT-DESC;FMTTYPE=text/html:This committee plans the annual Auburn Hills Open\, Corporate Golf League\, and other golf events. If you enjoy golf and working on a team\, this is a great serving opportunity.
LOCATION:Hirotec America 4567 Glenmeade Lane Auburn Hills\, MI 48326
UID:e.1571.1417
SEQUENCE:3
DTSTAMP:20260425T023004Z
URL:https://business.auburnhillschamber.com/events/details/golf-committee-meeting-09-11-2015-1417
END:VEVENT

END:VCALENDAR
