BEGIN:VCALENDAR
VERSION:2.0
PRODID:-//ChamberMaster//Event Calendar 2.0//EN
METHOD:PUBLISH
X-PUBLISHED-TTL:P3D
REFRESH-INTERVAL:P3D
CALSCALE:GREGORIAN
BEGIN:VEVENT
DTSTART;VALUE=DATE:20160312
DTEND;VALUE=DATE:20160313
TRANSP:TRANSPARENT
X-MICROSOFT-CDO-ALLDAYEVENT:TRUE
SUMMARY:Grand Opening at Sherwin Williams Orion Twp
DESCRIPTION:Come join us on March 12 for our 40% off Paints and stains Grand Opening sale! We are offering a free gallon of Emerald to the first 25 customers*. We also have FREE face painting from 12pm-2pm. We're excited to see you there!\n\n\n\nHours: 8am-6pm\n\nPhone: 248-393-3056\n\n\n\n*Exclusions may apply. See store for details.
X-ALT-DESC;FMTTYPE=text/html:Come join us on March 12 for our 40% off Paints and stains Grand Opening sale! We are offering a free gallon of Emerald to the first 25 customers*. We also have FREE face painting from 12pm-2pm. We&#39\;re excited to see you there!<br />\n<br />\nHours: 8am-6pm<br />\nPhone: 248-393-3056<br />\n<br />\n*Exclusions may apply. See store for details.
LOCATION:4913 S Baldwin Rd. Lake Orion MI 48359
UID:e.1571.3691
SEQUENCE:3
DTSTAMP:20260424T132048Z
URL:https://business.auburnhillschamber.com/events/details/grand-opening-at-sherwin-williams-orion-twp-03-12-2016-3691
END:VEVENT

END:VCALENDAR
