BEGIN:VCALENDAR
VERSION:2.0
PRODID:-//ChamberMaster//Event Calendar 2.0//EN
METHOD:PUBLISH
X-PUBLISHED-TTL:P3D
REFRESH-INTERVAL:P3D
CALSCALE:GREGORIAN
BEGIN:VEVENT
DTSTART:20150530T130000Z
DTEND:20150530T180000Z
X-MICROSOFT-CDO-ALLDAYEVENT:FALSE
SUMMARY:Health Education Fair
DESCRIPTION:Baker College and the Beaumont Wellness Coalition\, a committee of the Auburn Hills Chamber of Commerce\, would like to invite you to the Health Education Fair 2015. This free health fair is open to all members of the community and features:\n\n	Blood pressure\, blood sugar and cholesterol screenings\n	Dental screenings\n	Ultrasound demontrations\n	Health assesdsment education\n	Healthy snacks\n	Fun activities for children\n	Give-aways\, prizes and much more!
X-ALT-DESC;FMTTYPE=text/html:Baker College and the Beaumont Wellness Coalition\, a committee of the Auburn Hills Chamber of Commerce\, would like to invite you to the Health Education Fair 2015. This free health fair is open to all members of the community and features:\n<ul>\n	<li>Blood pressure\, blood sugar and cholesterol screenings</li>\n	<li>Dental screenings</li>\n	<li>Ultrasound demontrations</li>\n	<li>Health assesdsment education</li>\n	<li>Healthy snacks</li>\n	<li>Fun activities for children</li>\n	<li>Give-aways\, prizes and much more!</li>\n</ul>\n
LOCATION:Baker College of Auburn Hills 1500 University Drive Auburn Hills\, MI 48326
UID:e.1571.1693
SEQUENCE:3
DTSTAMP:20260425T105250Z
URL:https://business.auburnhillschamber.com/events/details/health-education-fair-05-30-2015-1693
END:VEVENT

END:VCALENDAR
