BEGIN:VCALENDAR
VERSION:2.0
PRODID:-//ChamberMaster//Event Calendar 2.0//EN
METHOD:PUBLISH
X-PUBLISHED-TTL:P3D
REFRESH-INTERVAL:P3D
CALSCALE:GREGORIAN
BEGIN:VEVENT
DTSTART:20170720T170000Z
DTEND:20170720T180000Z
X-MICROSOFT-CDO-ALLDAYEVENT:FALSE
SUMMARY:Here's The Scoop - Ice Cream Social 2017
DESCRIPTION:Join us Thursday\, July 20th\, for a fantastic free event. Meet new contacts\, beat the heat with ice cream\, and build up your business network.
X-ALT-DESC;FMTTYPE=text/html:Join us Thursday\, July 20th\, for a fantastic free event. Meet new contacts\, beat the heat with ice cream\, and build up your business network.
LOCATION:Dairy Queen 3053 E. Walton Blvd. Auburn Hills\, Michigan
UID:e.1571.4944
SEQUENCE:3
DTSTAMP:20260423T012920Z
URL:https://business.auburnhillschamber.com/events/details/here-s-the-scoop-ice-cream-social-2017-4944
END:VEVENT

END:VCALENDAR
