BEGIN:VCALENDAR
VERSION:2.0
PRODID:-//ChamberMaster//Event Calendar 2.0//EN
METHOD:PUBLISH
X-PUBLISHED-TTL:P3D
REFRESH-INTERVAL:P3D
CALSCALE:GREGORIAN
BEGIN:VEVENT
DTSTART:20170926T123000Z
DTEND:20170926T143000Z
X-MICROSOFT-CDO-ALLDAYEVENT:FALSE
SUMMARY:Insource or Outsource? How to Control HR Costs and Risks
DESCRIPTION:When does it makes sense to outsource your HR functions? When do you keep them in-house? And how can you leverage outside resources? Find out on Sept. 26 as Automation Alley welcomes in HR Pro/BenePro for an informative discussion on HR costs and risks. Learn about methods to free up your team's time to concentrate on core business matters without getting bogged down by necessities such as payroll\, benefits\, compliance\, recruitment or company morale. Walk away with tools and strategies to cut costs\, reduce risks and make informed business decisions to drive better financial results. This event is part of the Automation Alley's HR Roundtable series for executives\, managers and human resource staff looking to gain insight into relevant topics related to HR. Space is limited. Light refreshments will be provided. Guest speakers: Kris Powell\, President and CEO\, HRPro/BenePro Joan Morehead\, Vice President HR Services\, HRPro To register or more info: https://goo.gl/8kJ9Zv
X-ALT-DESC;FMTTYPE=text/html:When does it makes sense to outsource your HR functions? When do you keep them in-house? And how can you leverage outside resources? Find out on Sept. 26 as Automation Alley welcomes in HR Pro/BenePro for an informative discussion on HR costs and risks. Learn about methods to free up your team&rsquo\;s time to concentrate on core business matters without getting bogged down by necessities such as payroll\, benefits\, compliance\, recruitment or company morale. Walk away with tools and strategies to cut costs\, reduce risks and make informed business decisions to drive better financial results. This event is part of the Automation Alley&rsquo\;s HR Roundtable series for executives\, managers and human resource staff looking to gain insight into relevant topics related to HR. Space is limited. Light refreshments will be provided. Guest speakers: Kris Powell\, President and CEO\, HRPro/BenePro Joan Morehead\, Vice President HR Services\, HRPro To register or more info: https://goo.gl/8kJ9Zv
LOCATION:Automation Alley 2675 Bellingham Dr\, Troy\, MI 48083
UID:e.1571.5453
SEQUENCE:3
DTSTAMP:20260422T195955Z
URL:https://business.auburnhillschamber.com/events/details/insource-or-outsource-how-to-control-hr-costs-and-risks-5453
END:VEVENT

END:VCALENDAR
