BEGIN:VCALENDAR
VERSION:2.0
PRODID:-//ChamberMaster//Event Calendar 2.0//EN
METHOD:PUBLISH
X-PUBLISHED-TTL:P3D
REFRESH-INTERVAL:P3D
CALSCALE:GREGORIAN
BEGIN:VEVENT
DTSTART:20170110T163000Z
DTEND:20170110T173000Z
X-MICROSOFT-CDO-ALLDAYEVENT:FALSE
SUMMARY:January 2017 Ambassador Meeting
DESCRIPTION:January Ambassador Committee Meeting
X-ALT-DESC;FMTTYPE=text/html:January Ambassador Committee Meeting
LOCATION:The University Center Large Room 3350 Auburn Rd Auburn Hills\, MI 48326
UID:e.1571.4090
SEQUENCE:3
DTSTAMP:20260423T135026Z
URL:https://business.auburnhillschamber.com/events/details/january-2017-ambassador-meeting-4090
END:VEVENT

END:VCALENDAR
