BEGIN:VCALENDAR
VERSION:2.0
PRODID:-//ChamberMaster//Event Calendar 2.0//EN
METHOD:PUBLISH
X-PUBLISHED-TTL:P3D
REFRESH-INTERVAL:P3D
CALSCALE:GREGORIAN
BEGIN:VEVENT
DTSTART:20150225T180000Z
DTEND:20150225T200000Z
X-MICROSOFT-CDO-ALLDAYEVENT:FALSE
SUMMARY:Job Fair hosted by Snelling Staffing Services
DESCRIPTION:We are looking for qualified LIGHT INDUSTRIAL candidates with a minimum of 6 months of recent work experience.  Ideal experience would include: machine operators\, part inspectors\, assembly technicians and quality technicians. Snelling has several clients looking to hire candidates for career manufacturing occupations. Shipping & Receiving experience is also needed for several of our clients in the Oakland County area.  \n\n \n\nWe are also actively seeking several SKILLED TRADE candidates in the following areas:  \n\n\n	 Machine Building  \n	 CNC Programming \n	 Skilled Plastic Material Handling \n	 Mold Setting \n	 Process Technicians  \n	 Electrical/Mechanical Installation Technicians  \n\n \n\nWhat to bring:\n\n\n	A copy of your updated resume\n	Three professional references names and phone numbers for your past three places of employment\n	2 forms of ID for tax forms (Driver License and Social Security Card/Birth Certificate)\n\n  \n\nIf you have been registered with Snelling Staffing in the past\, please call our office prior to coming in for the Open House   we may be able to update your file over the phone! \n\n\n\nPlease contact our office at 248-373-7500 if you are not able to attend the open interview session\, but would like to apply for these opportunities.
X-ALT-DESC;FMTTYPE=text/html:<span style="font-size:12px\;"><span style="font-family:arial\;"><span style="border:none windowtext 1.0pt\;padding:0in\;"><span style="color:#222222\;">We are looking for qualified&nbsp\;LIGHT INDUSTRIAL&nbsp\;candidates with a&nbsp\;<strong><u>minimum of 6 months of recent work experience</u></strong>.&nbsp\; Ideal experience would include: machine operators\, part inspectors\, assembly technicians and quality technicians. Snelling has several clients looking to hire candidates for career manufacturing occupations. Shipping &amp\; Receiving&nbsp\;experience is also needed for several of our clients in the Oakland County area.&nbsp\;</span></span>&nbsp\;<br />\n<span style="border:none windowtext 1.0pt\;padding:0in\;"><span style="color:#222222\;">&nbsp\;<br />\n<strong>We are also actively seeking several&nbsp\;SKILLED TRADE&nbsp\;candidates in the following areas:&nbsp\;</strong></span></span>&nbsp\;</span></span>\n\n<ul>\n	<li><span style="font-size:12px\;"><span style="font-family:arial\;"><span style="border:none windowtext 1.0pt\;padding:0in\;"><span style="color:#222222\;">&nbsp\;Machine Building&nbsp\;</span></span>&nbsp\;</span></span></li>\n	<li><span style="font-size:12px\;"><span style="font-family:arial\;"><span style="border:none windowtext 1.0pt\;padding:0in\;"><span style="color:#222222\;">&nbsp\;CNC Programming</span></span>&nbsp\;</span></span></li>\n	<li><span style="font-size:12px\;"><span style="font-family:arial\;"><span style="border:none windowtext 1.0pt\;padding:0in\;"><span style="color:#222222\;">&nbsp\;Skilled Plastic Material Handling</span></span>&nbsp\;</span></span></li>\n	<li><span style="font-size:12px\;"><span style="font-family:arial\;"><span style="border:none windowtext 1.0pt\;padding:0in\;"><span style="color:#222222\;">&nbsp\;Mold Setting</span></span>&nbsp\;</span></span></li>\n	<li><span style="font-size:12px\;"><span style="font-family:arial\;"><span style="border:none windowtext 1.0pt\;padding:0in\;"><span style="color:#222222\;">&nbsp\;Process Technicians&nbsp\;</span></span>&nbsp\;</span></span></li>\n	<li><span style="font-size:12px\;"><span style="font-family:arial\;"><span style="border:none windowtext 1.0pt\;padding:0in\;"><span style="color:#222222\;">&nbsp\;Electrical/Mechanical Installation Technicians&nbsp\;</span></span>&nbsp\;</span></span></li>\n</ul>\n<span style="font-size:12px\;"><span style="font-family:arial\;">&nbsp\;<br />\n<strong><span style="color:#222222\;">What to bring:</span></strong></span></span>\n\n<ul>\n	<li style="margin-top:0in\;margin-right:.25in\;margin-bottom:0in\;margin-bottom:.0001pt\;vertical-align:baseline\;"><span style="font-size:12px\;"><span style="font-family:arial\;"><span style="color:#222222\;">A copy of your updated resume</span></span></span></li>\n	<li style="margin-top:0in\;margin-right:.25in\;margin-bottom:0in\;margin-bottom:.0001pt\;vertical-align:baseline\;"><span style="font-size:12px\;"><span style="font-family:arial\;"><span style="color:#222222\;">Three professional references names and phone numbers for your past three places of employment</span></span></span></li>\n	<li style="margin-top:0in\;margin-right:.25in\;margin-bottom:0in\;margin-bottom:.0001pt\;vertical-align:baseline\;"><span style="font-size:12px\;"><span style="font-family:arial\;"><span style="color:#222222\;">2 forms of ID for tax forms (Driver License and Social Security Card/Birth Certificate)</span></span></span></li>\n</ul>\n<span style="font-size:12px\;"><span style="font-family:arial\;"> &nbsp\;<br />\n<strong><u><span style="border:none windowtext 1.0pt\;padding:0in\;"><span style="color:#222222\;">If you have been registered with Snelling Staffing in the past\, please call our office prior to coming in for the Open House &ndash\; we may be able to update your file over the phone! </span></span></u></strong><br />\n<br />\n<em><span style="border:none windowtext 1.0pt\;padding:0in\;"><span style="color:#222222\;">Please contact our office at 248-373-7500 if you are not able to attend the open interview session\, but would like to apply for these opportunities.</span></span></em></span></span>
LOCATION:Snelling Staffing Services 2759 University Drive Auburn Hills\, MI 48326
UID:e.1571.1694
SEQUENCE:3
DTSTAMP:20260426T003647Z
URL:https://business.auburnhillschamber.com/events/details/job-fair-hosted-by-snelling-staffing-services-02-25-2015-1694
END:VEVENT

END:VCALENDAR
