BEGIN:VCALENDAR
VERSION:2.0
PRODID:-//ChamberMaster//Event Calendar 2.0//EN
METHOD:PUBLISH
X-PUBLISHED-TTL:P3D
REFRESH-INTERVAL:P3D
CALSCALE:GREGORIAN
BEGIN:VEVENT
DTSTART:20160831T130000Z
DTEND:20160831T160000Z
X-MICROSOFT-CDO-ALLDAYEVENT:FALSE
SUMMARY:JOB FAIR Open House 50+ Production Associates
DESCRIPTION:Wednesday\, August 31st\n\n9:00 a.m. 12:00 p.m.\n\n \n\nQualifications Job Duties Employee Benefits Application\n\n \n\nwww.ExpressTroy.com\n\nStill interested\, but unable to attend\, \n\nemail your resume to jobs.troymi@expresspros.com\n\nor call our office at 248.243.3000.
X-ALT-DESC;FMTTYPE=text/html:<div style="text-align:center"><strong><span style="font-family:\n"><span style="font-size:26.0pt">Wednesday\, August 31</span></span></strong><span style="font-family:dream orphans"><span style="font-size:17.3159pt"><sup>st</sup></span></span><br />\n<strong><span style="font-family:\n"><span style="font-size:26.0pt">9:00 a.m.&mdash\;12:00 p.m.</span></span></strong><br />\n&nbsp\;<br />\n<strong><span style="font-family:\n"><span style="font-size:24.0pt">Qualifications&mdash\;Job Duties&mdash\;Employee Benefits&mdash\;Application</span></span></strong><br />\n&nbsp\;<br />\n<strong><span style="font-family:\n"><span style="font-size:22.0pt">www.ExpressTroy.com</span></span></strong></div>\n\n<div style="text-align:center"><span style="font-family:\n"><span style="font-size:18.0pt">Still interested\, but unable to attend\, </span></span><br />\n<span style="font-family:\n"><span style="font-size:18.0pt">email your resume to </span></span><span style="font-size:22px"><u><span style="color:blue"><span style="font-family:arial">jobs.troymi@expresspros.com</span></span></u></span><br />\n<span style="font-family:\n"><span style="font-size:18.0pt">or call our office at 248.243.3000.</span></span></div>\n&nbsp\;<br />\n&nbsp\;
LOCATION:Express Employment Professionals 811 E. South Boulevard\, Suite 210 Rochester Hills\, MI 48307
UID:e.1571.3948
SEQUENCE:3
DTSTAMP:20260424T030526Z
URL:https://business.auburnhillschamber.com/events/details/job-fair-open-house-50-production-associates-3948
END:VEVENT

END:VCALENDAR
