BEGIN:VCALENDAR
VERSION:2.0
PRODID:-//ChamberMaster//Event Calendar 2.0//EN
METHOD:PUBLISH
X-PUBLISHED-TTL:P3D
REFRESH-INTERVAL:P3D
CALSCALE:GREGORIAN
BEGIN:VEVENT
DTSTART:20170125T140000Z
DTEND:20170125T170000Z
X-MICROSOFT-CDO-ALLDAYEVENT:FALSE
SUMMARY:Job Fair/Open House - General Labor
DESCRIPTION:This is a unique opportunity to meet with our experienced recruiters and discuss our current\, open job opportunities. No appointment Necessary. Shift and hourly pay will vary based on a particular position and your experience. Pay ranging from $10 to $12 per hour. Express offers long term\, contract-to-hire positions. Immediate benefits are available while on contract with Express! January 24th - Days Inn\, 6692 Newark Rd\, Imlay City January 25th - Express\, 811 E. South Blvd\, Rochester Hills Please bring the following with you to the Job Fair:   Updated resume   2 forms of ID (most candidate will bring current Driver's License and Social Security Card)   Please apply online at ExpressTroy.com (submit your application to Rochester Hills\, Troy & Clinton Township offices) **Please plan on being in our office for up to 90 minutes**
X-ALT-DESC;FMTTYPE=text/html:This is a unique opportunity to meet with our experienced recruiters and discuss our current\, open job opportunities. No appointment Necessary. Shift and hourly pay will vary based on a particular position and your experience. Pay ranging from $10 to $12 per hour. Express offers long term\, contract-to-hire positions. Immediate benefits are available while on contract with Express! January 24th - Days Inn\, 6692 Newark Rd\, Imlay City January 25th - Express\, 811 E. South Blvd\, Rochester Hills Please bring the following with you to the Job Fair: &bull\; Updated resume &bull\; 2 forms of ID (most candidate will bring current Driver&rsquo\;s License and Social Security Card) &bull\; Please apply online at ExpressTroy.com (submit your application to Rochester Hills\, Troy &amp\; Clinton Township offices) **Please plan on being in our office for up to 90 minutes**
LOCATION:Express Employment Professionals 811 E. South Blvd\, Ste 210 Rochester Hills\, MI 48306
UID:e.1571.4131
SEQUENCE:3
DTSTAMP:20260423T142425Z
URL:https://business.auburnhillschamber.com/events/details/job-fair-open-house-general-labor-01-25-2017-4131
END:VEVENT

END:VCALENDAR
