BEGIN:VCALENDAR
VERSION:2.0
PRODID:-//ChamberMaster//Event Calendar 2.0//EN
METHOD:PUBLISH
X-PUBLISHED-TTL:P3D
REFRESH-INTERVAL:P3D
CALSCALE:GREGORIAN
BEGIN:VEVENT
DTSTART:20170613T153000Z
DTEND:20170613T163000Z
X-MICROSOFT-CDO-ALLDAYEVENT:FALSE
SUMMARY:June 2017 Ambassador Committee Meeting
DESCRIPTION:June Ambassador Committee Meeting
X-ALT-DESC;FMTTYPE=text/html:June Ambassador Committee Meeting
LOCATION:The University Center 3350 Auburn Rd Auburn Hills\, MI 48326
UID:e.1571.4098
SEQUENCE:3
DTSTAMP:20260423T025738Z
URL:https://business.auburnhillschamber.com/events/details/june-2017-ambassador-committee-meeting-4098
END:VEVENT

END:VCALENDAR
