BEGIN:VCALENDAR
VERSION:2.0
PRODID:-//ChamberMaster//Event Calendar 2.0//EN
METHOD:PUBLISH
X-PUBLISHED-TTL:P3D
REFRESH-INTERVAL:P3D
CALSCALE:GREGORIAN
BEGIN:VEVENT
DTSTART:20150501T120000Z
DTEND:20150501T140000Z
X-MICROSOFT-CDO-ALLDAYEVENT:FALSE
SUMMARY:Leadership Development Series
DESCRIPTION:Great impressions close deals! Sharpen skills in business etiquette\, civility and image during the Auburn Hills Chamber of Commerce's new Leadership Development Series. This three-part program is facilitated by subject expert Joscelyn Davis\, President and Chief Strategist of Jade Strategies.\n\n\n\nThis series is ideal for emerging leaders and those looking to freshen up their soft skills. May 1 will cover a lesson in etiquette: Interpersonal Skills\, Emotional Intelligence & Communication during an interactive breakfast.\n\n\n\nMain focus points include: \n\n\n	Personal leadership strategy\n	Perspective on manners in the New Millennium\n	Navigating communication tolls - tradition vs. technology\n\n\n\n\n\nHospitality Sponsor:\n\nPanera Bread\, Cafe #1377 (Baldwin Rd\, Auburn Hills)
X-ALT-DESC;FMTTYPE=text/html:<span style="font-size:14px\;"><span style="font-family: arial\;">Great impressions close deals! Sharpen skills in business etiquette\, civility and image <span _mce_style="font-family: Arial\,Helvetica\,sans-serif\; font-size: 10pt\;">during the Auburn Hills Chamber of </span><span _mce_style="font-family: Arial\,Helvetica\,sans-serif\; font-size: 10pt\;">Commerce&#39\;s new Leadership Development Series. This three-part program is facilitated by subject expert Joscelyn Davis\, President and Chief Strategist of Jade Strategies.</span><br />\n<br />\nThis series is ideal for emerging leaders and those looking to freshen up their soft skills. May 1 will cover a lesson in etiquette: Interpersonal Skills\, Emotional Intelligence &amp\; Communication during an interactive breakfast.<br />\n<br />\nMain focus points include:&nbsp\;</span></span>\n\n<ul>\n	<li><span style="font-size:14px\;"><span style="font-family: arial\;">Personal leadership strategy</span></span></li>\n	<li><span style="font-size:14px\;"><span style="font-family: arial\;">Perspective on manners in the New Millennium</span></span></li>\n	<li><span style="font-size:14px\;"><span style="font-family: arial\;">Navigating communication tolls - tradition vs. technology</span></span></li>\n</ul>\n<br />\n<br />\nHospitality Sponsor:<br />\nPanera Bread\, Cafe #1377 (Baldwin Rd\, Auburn Hills)
LOCATION:Public Safety Building - Community Room 1899 N. Squirrel Rd. Auburn Hills\, MI\, 48326
UID:e.1571.1235
SEQUENCE:3
DTSTAMP:20260425T103757Z
URL:https://business.auburnhillschamber.com/events/details/leadership-development-series-05-01-2015-1235
END:VEVENT

END:VCALENDAR
